BEGIN:VCALENDAR
VERSION:2.0
PRODID:-//ChamberMaster//Event Calendar 2.0//EN
METHOD:PUBLISH
X-PUBLISHED-TTL:P3D
REFRESH-INTERVAL:P3D
CALSCALE:GREGORIAN
BEGIN:VEVENT
DTSTART:20120815T153000Z
DTEND:20120815T163000Z
X-MICROSOFT-CDO-ALLDAYEVENT:FALSE
SUMMARY:Zoning By-law Meeting
DESCRIPTION:For interested parties the Government Affairs Committee has been working on a consultation process to deal with the "Unintended Consequences" from the recent Zoning By-law changes.
X-ALT-DESC;FMTTYPE=text/html:For interested parties the Government Affairs Committee has been working on a consultation process to deal with the &quot\;Unintended Consequences&quot\; from the recent Zoning By-law changes.
LOCATION:Chamber Boardroom
UID:e.1345.43
SEQUENCE:3
DTSTAMP:20260423T133948Z
URL:https://members.nanaimochamber.bc.ca/events/details/zoning-by-law-meeting-08-15-2012-43
END:VEVENT

END:VCALENDAR
