BEGIN:VCALENDAR
VERSION:2.0
PRODID:-//ChamberMaster//Event Calendar 2.0//EN
METHOD:PUBLISH
X-PUBLISHED-TTL:P3D
REFRESH-INTERVAL:P3D
CALSCALE:GREGORIAN
BEGIN:VEVENT
DTSTART:20120112T170000Z
DTEND:20120113T000000Z
X-MICROSOFT-CDO-ALLDAYEVENT:FALSE
SUMMARY:WorldHost Fundamentals Workshop
DESCRIPTION:Chamber office\, 2133 Bowen Road\n\nCost: $60.00 (+ HST)\n\nRegistration and pre-payment required.
X-ALT-DESC;FMTTYPE=text/html:Chamber office\, 2133 Bowen Road<br />\nCost: $60.00 (+ HST)<br />\nRegistration and pre-payment required.
LOCATION:Chamber office\, 2133 Bowen Road
UID:e.1345.4
SEQUENCE:3
DTSTAMP:20260423T234326Z
URL:https://members.nanaimochamber.bc.ca/events/details/worldhost-fundamentals-workshop-01-12-2012-4
END:VEVENT

END:VCALENDAR
