BEGIN:VCALENDAR
VERSION:2.0
PRODID:-//ChamberMaster//Event Calendar 2.0//EN
METHOD:PUBLISH
X-PUBLISHED-TTL:P3D
REFRESH-INTERVAL:P3D
CALSCALE:GREGORIAN
BEGIN:VEVENT
DTSTART:20151015T160000Z
DTEND:20151015T230000Z
X-MICROSOFT-CDO-ALLDAYEVENT:FALSE
SUMMARY:Tourism Matters
DESCRIPTION:Fundamentals & Advanced Online Reputation Management Seminars.\n\nWhen:    Thursday\, October 15\, 2015\n\nTime:    9 am - 4 pm\n\nWhere:    VIU Board Room - Bldg. 305\, Room 507\n\n\n\nAs more travellers turn to review sites and social networks to research trips\, communicate with businesses and share experiences\, online reputation management has become a critical function for tourism businesses.\n\n \n\nIn this free seminar for BC tourism operators\, we show you how to build a positive online reputation by delivering remarkable experiences and acting on customer feedback. We explore ways to use social media to build awareness\, increase customer satisfaction and attract more travelers.\n\nRegister here.
X-ALT-DESC;FMTTYPE=text/html:Fundamentals &amp\; Advanced Online Reputation Management Seminars.<br />\nWhen:&nbsp\;&nbsp\; &nbsp\;Thursday\, October 15\, 2015<br />\nTime:&nbsp\;&nbsp\; &nbsp\;9 am - 4 pm<br />\nWhere:&nbsp\;&nbsp\; &nbsp\;VIU Board Room - Bldg. 305\, Room 507<br />\n<br />\nAs more travellers turn to review sites and social networks to research trips\, communicate with businesses and share experiences\, online reputation management has become a critical function for tourism businesses.<br />\n&nbsp\;<br />\nIn this free seminar for BC tourism operators\, we show you how to build a positive online reputation by delivering remarkable experiences and acting on customer feedback. We explore ways to use social media to build awareness\, increase customer satisfaction and attract more travelers.<br />\n<a href="http://r20.rs6.net/tn.jsp?e=001E-Jk84QS-vm1fHrwiQqoWvvwNzya-9hHSsiUvidDPil1m4j21P7Hi5iKrZP0W7cqr6_v2tlEIOL23aWGg7-OOtH_0LiBjk_GYCf9Thi1bSAtPB_M-mNszLEQcHabxUvZznz9gdncWCp019Heyr0qPDYBZ1HCP7nAcsTmPrLbpDIKEtFkRU16VafD1MxrHlkR6RpvS-JvgCETKH1OsY_0WOTWk_xbKSXu">Register here.&nbsp\;</a>
LOCATION:VIU Boardroom\, Bldg 305\, Room 507
UID:e.1345.240
SEQUENCE:3
DTSTAMP:20260420T203633Z
URL:https://members.nanaimochamber.bc.ca/events/details/tourism-matters-10-15-2015-240
END:VEVENT

END:VCALENDAR
