BEGIN:VCALENDAR
VERSION:2.0
PRODID:-//ChamberMaster//Event Calendar 2.0//EN
METHOD:PUBLISH
X-PUBLISHED-TTL:P3D
REFRESH-INTERVAL:P3D
CALSCALE:GREGORIAN
BEGIN:VEVENT
DTSTART:20150715T000000Z
DTEND:20150715T020000Z
X-MICROSOFT-CDO-ALLDAYEVENT:FALSE
SUMMARY:Tourism Matters
DESCRIPTION:Tourism Matters\n\nWhen:    Tuesday\, July 14\, 2015\n\nTime:    5 pm - 7 pm\n\nMore Details:    This is the first of a series of events presented by the Chamber\, Tourism Nanaimo and Downtown Nanaimo Business Improvement Association to network\, present sector-based educational opportunities\, explore leadership collaboration\, and share information.\n\nFree Appies & No Host Bar\n\nWhere:    Pioneer Waterfront Plaza - by the Bastion.\n\nCost:    $15 (+ GST) per person - book your spot by calling Debra at 250-756-1191 ext 4.
X-ALT-DESC;FMTTYPE=text/html:Tourism Matters<br />\nWhen:&nbsp\;&nbsp\; &nbsp\;Tuesday\, July 14\, 2015<br />\nTime:&nbsp\;&nbsp\; &nbsp\;5 pm - 7 pm<br />\nMore Details:&nbsp\;&nbsp\; &nbsp\;This is the first of a series of events presented by the Chamber\, Tourism Nanaimo and Downtown Nanaimo Business Improvement Association to network\, present sector-based educational opportunities\, explore leadership collaboration\, and share information.<br />\nFree Appies &amp\; No Host Bar<br />\nWhere:&nbsp\;&nbsp\; &nbsp\;Pioneer Waterfront Plaza - by the Bastion.<br />\nCost:&nbsp\;&nbsp\; &nbsp\;$15 (+ GST) per person - book your spot by calling Debra at 250-756-1191 ext 4.
LOCATION:Pioneer Waterfront Plaza
UID:e.1345.225
SEQUENCE:3
DTSTAMP:20260421T012736Z
URL:https://members.nanaimochamber.bc.ca/events/details/tourism-matters-07-14-2015-225
END:VEVENT

END:VCALENDAR
