BEGIN:VCALENDAR
VERSION:2.0
PRODID:-//ChamberMaster//Event Calendar 2.0//EN
METHOD:PUBLISH
X-PUBLISHED-TTL:P3D
REFRESH-INTERVAL:P3D
CALSCALE:GREGORIAN
BEGIN:VEVENT
DTSTART:20170301T160000Z
DTEND:20170301T173000Z
X-MICROSOFT-CDO-ALLDAYEVENT:FALSE
SUMMARY:The Power of the Inbox Tips and Tricks for Successful Email Marketing
DESCRIPTION:The Power of the Inbox \n\nTips and Tricks for Successful Email Marketing \n\nWhat is the first impression you give when they see you in their email inbox? And when they see you there\, what do they do? This powerful seminar takes you step-by-step through the keys to effective email marketing:   What it really is (and isn't)   What it can do for your business   And the five easy steps you must take to harness the power of the inbox!\n\nGrow a healthy list \n\nCreate great content \n\nCustomize a beautiful\, mobile-friendly template that matches your brand \n\nHow to get your emails opened \n\nTracking your results\n\nFrom revealing why regular email doesn't work\, to insider tips and techniques like automated list building tools and the design elements that work (and those that don't!)\, this seminar will give you the keys.\n\n Robyn Quinn\, APR\, MA\, Fellow CPRS\n\n\n\n\n\n\n\nRobyn Quinn is President of Big Bang Communications and a dynamic corporate communications professional. Her experience over 20 years includes military\, technology\, government\, not-for-profit\, higher education\, infrastructure and transportation sectors.  As a Constant Contact Authorized Expert and instructor she currently teaches media relations\, content strategy and writing and is a frequent speaker on digital communications for Chambers\, associations\, universities and business groups. \n\nA graduate of Royal Roads University (Masters Professional Communications) She is a long-time accredited member of the Canadian Public Relations Society (CPRS) As a passionate communicator and content strategist   Robyn works with clients to create powerful connections with target audiences. \n\nRobyn currently chairs Island Women in Science and Technology (iWIST) and serves on the Broadmead Care Society Board of Directors.\n\n \n\nhttps://ca.linkedin.com/in/robynquinnapr\n\n@PR4Science\n\nwww.bigbangcommunications.ca
X-ALT-DESC;FMTTYPE=text/html:<strong><span style="border:none windowtext 1.0pt\;padding:0in\;"><span style="font-size:11.0pt\;">The Power of the Inbox </span></span></strong><br />\nTips and Tricks for Successful Email Marketing&nbsp\;<br />\nWhat is the first impression you give when they see you in their email inbox? And when they see you there\, what do they do? This powerful seminar takes you step-by-step through the keys to effective email marketing: <span style="border:none windowtext 1.0pt\;padding:0in\;"><span style="font-family:symbol\;">&middot\;</span></span>&nbsp\;What it really is (and isn&rsquo\;t) <span style="border:none windowtext 1.0pt\;padding:0in\;"><span style="font-family:symbol\;">&middot\;</span></span>&nbsp\;What it can do for your business <span style="border:none windowtext 1.0pt\;padding:0in\;"><span style="font-family:symbol\;">&middot\;</span></span>&nbsp\;And the&nbsp\;five easy steps&nbsp\;you must take to harness the power of the inbox!<br />\nGrow a healthy list&nbsp\;<br />\nCreate great content&nbsp\;<br />\nCustomize a beautiful\, mobile-friendly template that matches your brand&nbsp\;<br />\nHow to get your emails opened&nbsp\;<br />\nTracking your results<br />\n<span style="border:none windowtext 1.0pt\;padding:0in\;"><span style="font-family:times new roman\,serif\;"><span style="font-size:12.0pt\;">From revealing why regular email doesn&#39\;t work\, to insider tips and techniques like automated list building tools and the design elements that work (and those that don&#39\;t!)\, this seminar will give you the keys.<br />\n&nbsp\;</span></span></span><span style="font-size:12.0pt\;">Robyn Quinn\, APR\, MA\, Fellow CPRS</span><br />\n<br />\n<br />\n<br />\n<span style="font-family:calibri\,sans-serif\;"><span style="font-size:13.0pt\;">Robyn Quinn is President of Big Bang Communications and a dynamic corporate communications professional. Her experience over 20 years includes military\, technology\, government\, not-for-profit\, higher education\, infrastructure and transportation sectors.&nbsp\; As a Constant Contact Authorized Expert and instructor she currently teaches media relations\, content strategy and writing and is a frequent speaker on digital communications for Chambers\, associations\, universities and business groups. </span></span><br />\n<span style="font-family:calibri\,sans-serif\;"><span style="font-size:13.0pt\;">A graduate of Royal Roads University (Masters Professional Communications) She is a long-time accredited member of the Canadian Public Relations Society (CPRS) As a passionate communicator and content strategist &ndash\; Robyn works with clients to create powerful connections with target audiences. </span></span><br />\n<span style="font-family:calibri\,sans-serif\;"><span style="font-size:13.0pt\;">Robyn currently chairs Island Women in Science and Technology (iWIST) and serves on the Broadmead Care Society Board of Directors.</span></span><br />\n&nbsp\;<br />\n<a href="https://ca.linkedin.com/in/robynquinnapr">https://ca.linkedin.com/in/robynquinnapr</a><br />\n<span style="font-family:calibri\,sans-serif\;"><span style="font-size:13.0pt\;">@PR4Science</span></span><br />\n<span style="font-family:calibri\,sans-serif\;"><span style="font-size:13.0pt\;"><a href="http://www.bigbangcommunications.ca/">www.bigbangcommunications.ca</a></span></span><br />\n&nbsp\;<br />\n&nbsp\;
LOCATION:Chamber of Commerce Staples Room 2133 Bowen Rd Nanaimo\, BC
UID:e.1345.540
SEQUENCE:3
DTSTAMP:20260419T174742Z
URL:https://members.nanaimochamber.bc.ca/events/details/the-power-of-the-inbox-tips-and-tricks-for-successful-email-marketing-540
END:VEVENT

END:VCALENDAR
