BEGIN:VCALENDAR
VERSION:2.0
PRODID:-//ChamberMaster//Event Calendar 2.0//EN
METHOD:PUBLISH
X-PUBLISHED-TTL:P3D
REFRESH-INTERVAL:P3D
CALSCALE:GREGORIAN
BEGIN:VEVENT
DTSTART:20130125T153000Z
DTEND:20130125T163000Z
X-MICROSOFT-CDO-ALLDAYEVENT:FALSE
SUMMARY:TD Merchant Services Workshop
DESCRIPTION:The Chamber\, through our affiliation with the BC Chamber\, offers our members discounted Merchant Services rates. The choice of Merchant Service providers was made by the BC Chamber who performed an extensive analysis of a variety of providers: reviewing rates\, reporting processes\, terminals and many other options.\n\n\n\nRob Patten from TD Merchant Services will provide an overview of merchant service charges and help bring some clarity to this issue. Rob will be happy to work individually with attendees to ensure they are getting the best rates possible.
X-ALT-DESC;FMTTYPE=text/html:The Chamber\, through our affiliation with the BC Chamber\, offers our members discounted Merchant Services rates. The choice of Merchant Service providers was made by the BC Chamber who performed an extensive analysis of a variety of providers: reviewing rates\, reporting processes\, terminals and many other options.<br />\n<br />\nRob Patten from TD Merchant Services will provide an overview of merchant service charges and help bring some clarity to this issue. Rob will be happy to work individually with attendees to ensure they are getting the best rates possible.
LOCATION:Chamber office\, 2133 Bowen Rd.
UID:e.1345.70
SEQUENCE:3
DTSTAMP:20260423T040917Z
URL:https://members.nanaimochamber.bc.ca/events/details/td-merchant-services-workshop-01-25-2013-70
END:VEVENT

END:VCALENDAR
