BEGIN:VCALENDAR
VERSION:2.0
PRODID:-//ChamberMaster//Event Calendar 2.0//EN
METHOD:PUBLISH
X-PUBLISHED-TTL:P3D
REFRESH-INTERVAL:P3D
CALSCALE:GREGORIAN
BEGIN:VEVENT
DTSTART:20170405T150000Z
DTEND:20170405T163000Z
X-MICROSOFT-CDO-ALLDAYEVENT:FALSE
SUMMARY:Tax Tips and Strategies for the Small Business Owner
DESCRIPTION:Good Morning Mastery\n\nSponsored by MNP\n\n\n\nTax Tips and Strategies for the Small Business Owner \n\n \n\nWhen it comes to your tax strategy\, even the smallest changes can make a big difference. Failing to consider the tax impact of a business decision before it's made can cause unexpected financial consequences for you and your business\, lost tax planning opportunities and potentially get you in trouble with the Canada Revenue Agency. To help you get the most from your business\, Meryl Chahley and Jamie Kungel from MNP will share practical tips and tax planning strategies you can use to reduce your taxes\, protect your assets and maximize your returns.\n\n \n\nABOUT THE PRESENTERS\n\n\n\nMeryl Chahley\, CPA\, CA\n\n \n\nMeryl is a Chartered Professional Accountant and Business Advisor at MNP. As a member of MNP's Private Enterprise group\, Meryl has more than 25 years of helping owners of small and medium sized businesses achieve success at every stage of the corporate life cycle   from start up to succession.  Meryl focuses on helping business owners minimize taxes\, maximize cash flow and protect their assets by carefully structuring corporate and family holdings to help her clients grow their businesses and accumulate wealth in a tax-efficient manner. Clients also rely on Meryl to for assistance with strategic planning\, developing a long-term vision and reviewing operational results after helping put proper business systems in place.\n\n \n\nJamie Kungel\, CPA\, CA\n\n \n\nJamie Kungel\, CPA\, CA is a Taxation Specialist and the Regional Tax Leader for MNP's Vancouver Island region. Jamie specializes in helping clients save taxes through corporate reorganizations\, estate planning and succession planning. With more than a decade of experience\, Jamie assists owner-managed businesses with income splitting structures\, minimizing taxes on death and reorganizing companies to transfer future growth to the next generation. He can also help restructure companies to give them access to multiple capital gains exemptions\, segregate business assets from inactive assets and make the company as tax-efficient as possible. Jamie focuses on delivering useful and innovative tax ideas that meet client needs\, minimize taxes and make good business sense.\n\n\n\nSPACE IS LIMITED TO 30 GUESTS!
X-ALT-DESC;FMTTYPE=text/html:<strong><span style="font-size:14.0pt\;">Good Morning Mastery<br />\nSponsored by MNP<br />\n<br />\nTax Tips and Strategies for the Small Business Owner&nbsp\;</span></strong><br />\n&nbsp\;<br />\nWhen it comes to your tax strategy\, even the smallest changes can make a big difference. Failing to consider the tax impact of a business decision before it&rsquo\;s made can cause unexpected financial consequences for you and your business\, lost tax planning opportunities and potentially get you in trouble with the Canada Revenue Agency. To help you get the most from your business\, Meryl Chahley and Jamie Kungel from MNP will share practical tips and tax planning strategies you can use to reduce your taxes\, protect your assets and maximize your returns.<br />\n&nbsp\;<br />\n<strong>ABOUT THE PRESENTERS</strong><br />\n<br />\n<strong>Meryl Chahley\, CPA\, CA</strong><br />\n&nbsp\;<br />\nMeryl is a Chartered Professional Accountant and Business Advisor at MNP. As a member of MNP&rsquo\;s Private Enterprise group\, Meryl has more than 25 years of helping owners of small and medium sized businesses achieve success at every stage of the corporate life cycle &ndash\; from start up to succession.&nbsp\; Meryl focuses on helping business owners minimize taxes\, maximize cash flow and protect their assets by carefully structuring corporate and family holdings to help her clients grow their businesses and accumulate wealth in a tax-efficient manner. Clients also rely on Meryl to for assistance with strategic planning\, developing a long-term vision and reviewing operational results after helping put proper business systems in place.<br />\n&nbsp\;<br />\n<strong>Jamie Kungel\, CPA\, CA</strong><br />\n&nbsp\;<br />\nJamie Kungel\, CPA\, CA is a Taxation Specialist and the Regional Tax Leader for MNP&rsquo\;s Vancouver Island region. Jamie specializes in helping clients save taxes through corporate reorganizations\, estate planning and succession planning. With more than a decade of experience\, Jamie assists owner-managed businesses with income splitting structures\, minimizing taxes on death and reorganizing companies to transfer future growth to the next generation. He can also help restructure companies to give them access to multiple capital gains exemptions\, segregate business assets from inactive assets and make the company as tax-efficient as possible. Jamie focuses on delivering useful and innovative tax ideas that meet client needs\, minimize taxes and make good business sense.<br />\n<br />\n<strong>SPACE IS LIMITED TO 30 GUESTS!</strong>
LOCATION:The Chamber 2133 Bowen Rd V9S 1H8
UID:e.1345.543
SEQUENCE:3
DTSTAMP:20260419T162309Z
URL:https://members.nanaimochamber.bc.ca/events/details/tax-tips-and-strategies-for-the-small-business-owner-543
END:VEVENT

END:VCALENDAR
