BEGIN:VCALENDAR
VERSION:2.0
PRODID:-//ChamberMaster//Event Calendar 2.0//EN
METHOD:PUBLISH
X-PUBLISHED-TTL:P3D
REFRESH-INTERVAL:P3D
CALSCALE:GREGORIAN
BEGIN:VEVENT
DTSTART:20120505T020000Z
DTEND:20120505T050000Z
X-MICROSOFT-CDO-ALLDAYEVENT:FALSE
SUMMARY:Sterling Business Awards
DESCRIPTION:2012 Sterling Business Awards\n\nMay 4\, 2012\n\nVancouver Island Conference Centre\n\n\n\nNetworking and sweet & savory "appeteasers": 7:00pm\n\n\n\nTickets: $70.00 +HST\n\n\n\nTicket order form
X-ALT-DESC;FMTTYPE=text/html:2012 Sterling Business&nbsp\;Awards<br />\nMay 4\, 2012<br />\nVancouver Island Conference Centre<br />\n<br />\nNetworking&nbsp\;and sweet &amp\; savory &quot\;appeteasers&quot\;: 7:00pm<br />\n<br />\nTickets: $70.00 +HST<br />\n<br />\n<a href="http://www.nanaimochamber.bc.ca/images/stories/Ticket_order_form.pdf"><strong>Ticket order form</strong></a><br />\n
LOCATION:Vancouver Island Conference Centre 101 Gordon St.
UID:e.1345.22
SEQUENCE:3
DTSTAMP:20260423T164532Z
URL:https://members.nanaimochamber.bc.ca/events/details/sterling-business-awards-05-04-2012-22
END:VEVENT

END:VCALENDAR
