BEGIN:VCALENDAR
VERSION:2.0
PRODID:-//ChamberMaster//Event Calendar 2.0//EN
METHOD:PUBLISH
X-PUBLISHED-TTL:P3D
REFRESH-INTERVAL:P3D
CALSCALE:GREGORIAN
BEGIN:VEVENT
DTSTART:20150219T153000Z
DTEND:20150219T163000Z
X-MICROSOFT-CDO-ALLDAYEVENT:FALSE
SUMMARY:Sparks Session: Emotional Intelligence at Work
DESCRIPTION:Emotional Intelligence at Work with Rob Riches\, The Indigo Group\n\nThursday\, February 19     \n\nChamber Offices - 2133 Bowen Rd\n\n7:00 am networking. Session starts at 7:30 am and goes to 8:30 am.    Free for members
X-ALT-DESC;FMTTYPE=text/html:Emotional Intelligence at Work with Rob Riches\, The Indigo Group<br />\nThursday\, February 19 &nbsp\;&nbsp\; &nbsp\;<br />\nChamber Offices - 2133 Bowen Rd<br />\n7:00 am networking. Session starts at 7:30 am and goes to 8:30 am.&nbsp\;&nbsp\; &nbsp\;Free for members<br />\n<br />\n&nbsp\;
LOCATION:Chamber office 2133 Bowen Rd.
UID:e.1345.194
SEQUENCE:3
DTSTAMP:20260421T094225Z
URL:https://members.nanaimochamber.bc.ca/events/details/sparks-session-emotional-intelligence-at-work-02-19-2015-194
END:VEVENT

END:VCALENDAR
