BEGIN:VCALENDAR
VERSION:2.0
PRODID:-//ChamberMaster//Event Calendar 2.0//EN
METHOD:PUBLISH
X-PUBLISHED-TTL:P3D
REFRESH-INTERVAL:P3D
CALSCALE:GREGORIAN
BEGIN:VEVENT
DTSTART:20150514T190000Z
DTEND:20150514T190000Z
X-MICROSOFT-CDO-ALLDAYEVENT:FALSE
SUMMARY:Sparks Session: Business Team Building with Theatresports
DESCRIPTION:Theatre Games and Improvisational Theatresports Workshop.\n\n\n\nTry a Theatre Games Workshop with Joyce Tinnion.\n\n\n\nLaughter and Play are essential! They build creativity and self confidence and good health.\n\n\n\nThis Theatre Workshop will give an opportunity to relax and renew the spirit.\n\n\n\nBring your lunch - and have some fun!\n\n\n\nNo experience necessary.\n\n\n\nCost: Free - but the information is PRICELESS.\n\nReserve your spot for this session by calling 250-756-1191.
X-ALT-DESC;FMTTYPE=text/html:Theatre Games and Improvisational Theatresports Workshop.<br />\n<br />\nTry a Theatre Games Workshop with Joyce Tinnion.<br />\n<br />\nLaughter and Play are essential! They build creativity and self confidence and good health.<br />\n<br />\nThis Theatre Workshop will give an opportunity to relax and renew the spirit.<br />\n<br />\nBring your lunch - and have some fun!<br />\n<br />\nNo experience necessary.<br />\n<br />\nCost: Free - but the information is PRICELESS.<br />\nReserve your spot for this session by calling 250-756-1191.
LOCATION:Chamber office
UID:e.1345.216
SEQUENCE:3
DTSTAMP:20260421T045406Z
URL:https://members.nanaimochamber.bc.ca/events/details/sparks-session-business-team-building-with-theatresports-05-14-2015-216
END:VEVENT

END:VCALENDAR
