BEGIN:VCALENDAR
VERSION:2.0
PRODID:-//ChamberMaster//Event Calendar 2.0//EN
METHOD:PUBLISH
X-PUBLISHED-TTL:P3D
REFRESH-INTERVAL:P3D
CALSCALE:GREGORIAN
BEGIN:VEVENT
DTSTART:20141126T180000Z
DTEND:20141126T190000Z
X-MICROSOFT-CDO-ALLDAYEVENT:FALSE
SUMMARY:Sparks Session: Beginners Guide to Internet Marketing for Small Business
DESCRIPTION:Spark Session Webinar   \n\nBeginners Guide to Internet Marketing for Small Business\n\nPresented By Doug Hay of Doug Hay and Associates\n\nWhen:         Wednesday\, November 26\, 2014\n\nWhere:        Land of the internet\n\nTime:          10:00-11:00 am\n\nCost:           FREE for members\n\nRegister:     https://attendee.gotowebinar.com/register/6105175014789455105
X-ALT-DESC;FMTTYPE=text/html:Spark Session Webinar&nbsp\; &nbsp\;<br />\nBeginners Guide to Internet Marketing for Small Business<br />\nPresented By Doug Hay of Doug Hay and Associates<br />\nWhen:&nbsp\;&nbsp\;&nbsp\;&nbsp\;&nbsp\;&nbsp\;&nbsp\;&nbsp\; Wednesday\, November 26\, 2014<br />\nWhere:&nbsp\;&nbsp\;&nbsp\;&nbsp\; &nbsp\;&nbsp\; Land of the internet<br />\nTime:&nbsp\;&nbsp\;&nbsp\;&nbsp\;&nbsp\;&nbsp\;&nbsp\;&nbsp\;&nbsp\; 10:00-11:00 am<br />\nCost:&nbsp\;&nbsp\;&nbsp\;&nbsp\;&nbsp\;&nbsp\;&nbsp\;&nbsp\;&nbsp\;&nbsp\; FREE for members<br />\nRegister:&nbsp\;&nbsp\; &nbsp\; <a href="https://attendee.gotowebinar.com/register/6105175014789455105">https://attendee.gotowebinar.com/register/6105175014789455105</a>
LOCATION:Webinar
UID:e.1345.180
SEQUENCE:3
DTSTAMP:20260421T144916Z
URL:https://members.nanaimochamber.bc.ca/events/details/sparks-session-beginners-guide-to-internet-marketing-for-small-business-11-26-2014-180
END:VEVENT

END:VCALENDAR
