BEGIN:VCALENDAR
VERSION:2.0
PRODID:-//ChamberMaster//Event Calendar 2.0//EN
METHOD:PUBLISH
X-PUBLISHED-TTL:P3D
REFRESH-INTERVAL:P3D
CALSCALE:GREGORIAN
BEGIN:VEVENT
DTSTART:20150227T180000Z
DTEND:20150227T190000Z
X-MICROSOFT-CDO-ALLDAYEVENT:FALSE
SUMMARY:Sparks Session: 5 Steps to Powerful Website Content (Webinar)
DESCRIPTION:Spark Session Webinar\n\n5 Steps to Powerful website content with George Plumley\n\nFriday\, February 27\, 2015\n\n10:00 am - 11:00 am\n\nTo register: https://attendee.gotowebinar.com/register/5382320888242268161 \n\nFree for members
X-ALT-DESC;FMTTYPE=text/html:Spark Session Webinar<br />\n5 Steps to Powerful website content with George Plumley<br />\nFriday\, February 27\, 2015<br />\n10:00 am - 11:00 am<br />\nTo register: <a href="https://attendee.gotowebinar.com/register/5382320888242268161">https://attendee.gotowebinar.com/register/5382320888242268161 </a><br />\nFree for members
LOCATION:
UID:e.1345.195
SEQUENCE:3
DTSTAMP:20260421T111306Z
URL:https://members.nanaimochamber.bc.ca/events/details/sparks-session-5-steps-to-powerful-website-content-webinar-02-27-2015-195
END:VEVENT

END:VCALENDAR
