BEGIN:VCALENDAR
VERSION:2.0
PRODID:-//ChamberMaster//Event Calendar 2.0//EN
METHOD:PUBLISH
X-PUBLISHED-TTL:P3D
REFRESH-INTERVAL:P3D
CALSCALE:GREGORIAN
BEGIN:VEVENT
DTSTART:20140918T140000Z
DTEND:20140918T153000Z
X-MICROSOFT-CDO-ALLDAYEVENT:FALSE
SUMMARY:Spark Sessions - Social Media
DESCRIPTION:Presenters - Mike Thompson and Elle Campbell\n\nMembers Only\n\nWhen:     Thursday\, September 18\, 2014\n\nWhere:     Chamber office\n\n2133 Bowen Road\n\nTime:     7:00am-8:30am - Session start PROMPTLY at 7:30am  \n\nCost:     Nothing - but bring an item for Loaves and Fishes.
X-ALT-DESC;FMTTYPE=text/html:Presenters - Mike Thompson and Elle Campbell<br />\n<strong>Members Only</strong><br />\nWhen: &nbsp\;&nbsp\; &nbsp\;Thursday\, September 18\, 2014<br />\nWhere: &nbsp\;&nbsp\; &nbsp\;Chamber office<br />\n2133 Bowen Road<br />\nTime: &nbsp\;&nbsp\; &nbsp\;7:00am-8:30am - Session start PROMPTLY at 7:30am &nbsp\;<br />\nCost: &nbsp\;&nbsp\; &nbsp\;Nothing - but bring an item for Loaves and Fishes.<br />\n<br />\n&nbsp\;
LOCATION:2133 Bowen Rd.
UID:e.1345.162
SEQUENCE:3
DTSTAMP:20260421T192209Z
URL:https://members.nanaimochamber.bc.ca/events/details/spark-sessions-social-media-09-18-2014-162
END:VEVENT

END:VCALENDAR
