BEGIN:VCALENDAR
VERSION:2.0
PRODID:-//ChamberMaster//Event Calendar 2.0//EN
METHOD:PUBLISH
X-PUBLISHED-TTL:P3D
REFRESH-INTERVAL:P3D
CALSCALE:GREGORIAN
BEGIN:VEVENT
DTSTART:20141003T010000Z
DTEND:20141003T030000Z
X-MICROSOFT-CDO-ALLDAYEVENT:FALSE
SUMMARY:Spark Sessions - Implications of Incorporation
DESCRIPTION:Presenters -  Stephen J. Struthers\, Investors Group\,  \n\nBlair Franklin\, Lawyer\, Johnston Franklin Lawyers.\n\nMike Delves\, CGA\, MNP\n\n   \n\nChoosing a corporate structure can effectively provide liability protection\, creditor proofing and tax planning opportunities that are not available as a sole proprietor. Unfortunately\, many business owners do not fully understand these opportunities. It is about choices. However\, it is about making the right choices. Whether you are contemplating incorporating or already incorporated\, it is important to understand the 'Implications of Incorporation.' This free session takes place on Thursday\, October 2nd at 6:00 pm -Program starts promptly at 6:30 pm - at Nanaimo Chamber of Commerce offices at 2133 Bowen Road.
X-ALT-DESC;FMTTYPE=text/html:Presenters -&nbsp\; Stephen J. Struthers\, Investors Group\, &nbsp\;<br />\nBlair Franklin\, Lawyer\, Johnston Franklin Lawyers.<br />\nMike Delves\, CGA\, MNP<br />\n&nbsp\; &nbsp\;<br />\nChoosing a corporate structure can effectively provide liability protection\, creditor proofing and tax planning opportunities that are not available as a sole proprietor. Unfortunately\, many business owners do not fully understand these opportunities. It is about choices. However\, it is about making the right choices. Whether you are contemplating incorporating or already incorporated\, it is important to understand the &#39\;Implications of Incorporation.&#39\; This free session takes place on Thursday\, October 2nd at 6:00 pm -Program starts promptly at 6:30 pm - at Nanaimo Chamber of Commerce offices at 2133 Bowen Road.<br />\n&nbsp\;
LOCATION:Chamber Office 2133 Bowen Rd
UID:e.1345.169
SEQUENCE:3
DTSTAMP:20260421T174759Z
URL:https://members.nanaimochamber.bc.ca/events/details/spark-sessions-implications-of-incorporation-10-02-2014-169
END:VEVENT

END:VCALENDAR
