BEGIN:VCALENDAR
VERSION:2.0
PRODID:-//ChamberMaster//Event Calendar 2.0//EN
METHOD:PUBLISH
X-PUBLISHED-TTL:P3D
REFRESH-INTERVAL:P3D
CALSCALE:GREGORIAN
BEGIN:VEVENT
DTSTART:20141002T140000Z
DTEND:20141002T153000Z
X-MICROSOFT-CDO-ALLDAYEVENT:FALSE
SUMMARY:Spark Sessions - Build A Better Booth
DESCRIPTION:Presenter - John Shepherd\, VICC Conference Services Manager\n\n \n\nJohn will talk about how to get the most out of your booth at events - for home and away. Perfect for those who have signed up for our Business Expo on October 16th! DUE TO POPULAR DEMAND - we have added an additional date. Please book your free spot for this in person session that happens on Thursday\, October 2nd - Coffee and networking at 7 am - session begins at 7:30 am SHARP!\n\nIn the Staples Training Centre here at the Chamber offices - 2133 Bowen Road.
X-ALT-DESC;FMTTYPE=text/html:Presenter - John Shepherd\, VICC Conference Services Manager<br />\n&nbsp\;<br />\nJohn will talk about how to get the most out of your booth at events - for home and away. Perfect for those who have signed up for our Business Expo on October 16th! <strong>DUE TO POPULAR DEMAND</strong> - we have added an additional date. Please book your free spot for this in person session that happens on Thursday\, October 2nd - Coffee and networking at 7 am - session begins at 7:30 am SHARP!<br />\nIn the Staples Training Centre here at the Chamber offices - 2133 Bowen Road.
LOCATION:Chamber Office 2133 Bowen Rd.
UID:e.1345.168
SEQUENCE:3
DTSTAMP:20260421T174517Z
URL:https://members.nanaimochamber.bc.ca/events/details/spark-sessions-build-a-better-booth-10-02-2014-168
END:VEVENT

END:VCALENDAR
