BEGIN:VCALENDAR
VERSION:2.0
PRODID:-//ChamberMaster//Event Calendar 2.0//EN
METHOD:PUBLISH
X-PUBLISHED-TTL:P3D
REFRESH-INTERVAL:P3D
CALSCALE:GREGORIAN
BEGIN:VEVENT
DTSTART:20140924T140000Z
DTEND:20140924T153000Z
X-MICROSOFT-CDO-ALLDAYEVENT:FALSE
SUMMARY:Spark Sessions - Build a Better Booth
DESCRIPTION:Guest speaker is John Shepherd\, VICC Conference Services Manager\n\nJohn will talk about how to get the most out of your booth at events   for home and away. Perfect for those who have signed up for our Business Expo on October 16th!\n\nFREE for members.\n\n \n\nWednesday\, September 24th\n\n7:00 am networking\n\n7:30 am talk begins promptly\n\n8:15 Q & A\n\n8:30 Session complete\n\n \n\nThis session is SOLD OUT!
X-ALT-DESC;FMTTYPE=text/html:Guest speaker is John Shepherd\, VICC Conference Services Manager<br />\nJohn will talk about how to get the most out of your booth at events &ndash\; for home and away. Perfect for those who have signed up for our Business Expo on October 16th!<br />\nFREE for members.<br />\n&nbsp\;<br />\nWednesday\, September 24th<br />\n7:00 am networking<br />\n7:30 am talk begins promptly<br />\n8:15 Q &amp\; A<br />\n8:30 Session complete<br />\n&nbsp\;<br />\n<strong><span style="color:#FF0000\;">This session is SOLD OUT!</span></strong><br />\n<br />\n&nbsp\;
LOCATION:Chamber Office 2133 Bowen Rd.
UID:e.1345.166
SEQUENCE:3
DTSTAMP:20260421T174542Z
URL:https://members.nanaimochamber.bc.ca/events/details/spark-sessions-build-a-better-booth-09-24-2014-166
END:VEVENT

END:VCALENDAR
