BEGIN:VCALENDAR
VERSION:2.0
PRODID:-//ChamberMaster//Event Calendar 2.0//EN
METHOD:PUBLISH
X-PUBLISHED-TTL:P3D
REFRESH-INTERVAL:P3D
CALSCALE:GREGORIAN
BEGIN:VEVENT
DTSTART:20141022T140000Z
DTEND:20141022T153000Z
X-MICROSOFT-CDO-ALLDAYEVENT:FALSE
SUMMARY:Spark Session - Writing for Business
DESCRIPTION:Writing Secrets for Marketing Success\n\n\n\nEffective marketing is about using the right words. In this workshop\, you will learn simple techniques to improve how you connect with prospects\, and customers. Find out how to polish your writing\, for things like emails\, your website\, brochures\, social media\, and events. You will leave with practical tips\, you can use right away.\n\n\n\nWorkshop leader - Bonnie Chomica\, Marketing Done Write
X-ALT-DESC;FMTTYPE=text/html:Writing Secrets for Marketing Success<br />\n<br />\nEffective marketing is about using the right words. In this workshop\, you will learn simple techniques to improve how you connect with prospects\, and customers. Find out how to polish your writing\, for things like emails\, your website\, brochures\, social media\, and events. You will leave with practical tips\, you can use right away.<br />\n<br />\nWorkshop leader - Bonnie Chomica\, Marketing Done Write
LOCATION:Chamber office 2133 Bowen Rd.
UID:e.1345.170
SEQUENCE:3
DTSTAMP:20260421T174641Z
URL:https://members.nanaimochamber.bc.ca/events/details/spark-session-writing-for-business-10-22-2014-170
END:VEVENT

END:VCALENDAR
