BEGIN:VCALENDAR
VERSION:2.0
PRODID:-//ChamberMaster//Event Calendar 2.0//EN
METHOD:PUBLISH
X-PUBLISHED-TTL:P3D
REFRESH-INTERVAL:P3D
CALSCALE:GREGORIAN
BEGIN:VEVENT
DTSTART:20150331T170000Z
DTEND:20150331T180000Z
X-MICROSOFT-CDO-ALLDAYEVENT:FALSE
SUMMARY:Spark Session Webinar: Twitter for Professionals & Small Business Success
DESCRIPTION:Spark Session Webinar: Twitter for Professionals & Small Business Success \n\n\n\nWhen:    Tuesday\, March 31st\n\nTime:    10:00 am - 11:00 am\n\nLink:     https://attendee.gotowebinar.com/register/2947102744365776130 \n\n\n\nCost:    Free for members
X-ALT-DESC;FMTTYPE=text/html:Spark Session Webinar: <strong><span style="color:#282622\;"><span style="font-family:century gothic\,sans-serif\;"><span style="font-size:10.0pt\;">Twitter for Professionals &amp\; Small Business Success&nbsp\;</span></span></span></strong><br />\n<br />\nWhen:&nbsp\;&nbsp\; &nbsp\;Tuesday\, March 31st<br />\nTime:&nbsp\;&nbsp\; &nbsp\;10:00 am - 11:00 am<br />\nLink:&nbsp\;&nbsp\; &nbsp\; <span style="color:#282622\;"><span style="font-family:century gothic\,sans-serif\;"><span style="font-size:10.0pt\;"><a href="https://attendee.gotowebinar.com/register/2947102744365776130" target="_blank">https://attendee.gotowebinar.com/register/2947102744365776130&nbsp\;</a></span></span></span><br />\n<br />\nCost:&nbsp\;&nbsp\; &nbsp\;Free for members
LOCATION:Online
UID:e.1345.198
SEQUENCE:3
DTSTAMP:20260421T080619Z
URL:https://members.nanaimochamber.bc.ca/events/details/spark-session-webinar-twitter-for-professionals-small-business-success-03-31-2015-198
END:VEVENT

END:VCALENDAR
