BEGIN:VCALENDAR
VERSION:2.0
PRODID:-//ChamberMaster//Event Calendar 2.0//EN
METHOD:PUBLISH
X-PUBLISHED-TTL:P3D
REFRESH-INTERVAL:P3D
CALSCALE:GREGORIAN
BEGIN:VEVENT
DTSTART:20141029T170000Z
DTEND:20141029T180000Z
X-MICROSOFT-CDO-ALLDAYEVENT:FALSE
SUMMARY:Spark Session - WEBINAR - Goal Setting
DESCRIPTION:Goal Achieving 101 for Business: Presenter: Dean Philpott\n\n\n\nWhen: Wednesday\, Oct. 29\, 2014\n\nWhere: WEBINAR\n\nTime: 10:00am - 11:00am\n\nCost: Free for Members\; $25 (+ GST) for non members\n\n\n\nRegister here:  www2.gotomeeting.com/register/356624330\n\n\n\nDean Philpott is the international bestselling author of Stop Wishing\, Start Winning\, Real Estate group coach\, individual life/business coach\, proud father\, and lover of life and adventure.\n\n\n\nFollowing a successful career at RE/MAX and over 20 years in the business development industry\, Dean Philpott is becoming internationally recognized as a platform speaker and coach with Philpott Seminars.\n\n\n\nDean's mission is to help people build and sustain their world class business while remaining balanced and healthy\, with a few simple principles that he lives by himself.
X-ALT-DESC;FMTTYPE=text/html:Goal Achieving 101 for Business: Presenter: Dean Philpott<br />\n<br />\nWhen: Wednesday\, Oct. 29\, 2014<br />\nWhere: WEBINAR<br />\nTime: 10:00am - 11:00am<br />\nCost: Free for Members\; $25 (+ GST) for non members<br />\n<br />\nRegister here:&nbsp\; <a href="https://www2.gotomeeting.com/register/356624330">www2.gotomeeting.com/register/356624330</a><br />\n<br />\n<font face="arial\,verdana\,helvetica" id="t" size="2">Dean Philpott is the international bestselling author of Stop Wishing\, Start Winning\, Real Estate group coach\, individual life/business coach\, proud father\, and lover of life and adventure.<br />\n<br />\nFollowing a successful career at RE/MAX and over 20 years in the business development industry\, Dean Philpott is becoming internationally recognized as a platform speaker and coach with Philpott Seminars.<br />\n<br />\nDean&rsquo\;s mission is to help people build and sustain their world class business while remaining balanced and healthy\, with a few simple principles that he lives by himself.</font>
LOCATION:WEBINAR
UID:e.1345.172
SEQUENCE:3
DTSTAMP:20260421T160310Z
URL:https://members.nanaimochamber.bc.ca/events/details/spark-session-webinar-goal-setting-10-29-2014-172
END:VEVENT

END:VCALENDAR
