BEGIN:VCALENDAR
VERSION:2.0
PRODID:-//ChamberMaster//Event Calendar 2.0//EN
METHOD:PUBLISH
X-PUBLISHED-TTL:P3D
REFRESH-INTERVAL:P3D
CALSCALE:GREGORIAN
BEGIN:VEVENT
DTSTART:20150922T140000Z
DTEND:20150922T153000Z
X-MICROSOFT-CDO-ALLDAYEVENT:FALSE
SUMMARY:Spark Session: Verbal Skills for Business
DESCRIPTION:When:    Tuesday\, September 22\, 2015\n\nWhere:    Nanaimo Chamber of Commerce\, 2133 Bowen Road\n\nTime:     7 am networking. 7:30-8:30 am Spark Session\n\nCost:    FREE for our fabulous members\n\n\n\nA successful business person knows it takes skill\, awareness\, and certain knowledge to state your case\, present your arguments\, and ultimately gauge and adjust to your client's reactions. What you say\, when and how you say it\, and a myriad of other options are available to you.\n\nWhy bother?\n\nBecause your bottom line\, your profit margin\, and your potential and continued business relationships depend on it!\n\nAre your chosen words adequate? Is your body language belying your verbal message? Can you read whether your intent is hitting its mark?\n\nIs your tone of voice appropriate? Can you manipulate your vocal intensity to suit your purposes? Are you using proximity to your advantage?\n\nVerbal Skills for Business is an experiential workshop designed to increase awareness\, discover existing strengths\, and provide opportunities to experiment with the manner in which you express yourself and represent your company.\n\n\n\nRosemarie Barnes\n\nThe Maverick Speaker\n\nConfident Stages\n\nwww.confidentstages.com\n\nrbarnes@confidentstages.com\n\n250 661-0994\n\n\n\nBio: Rosemarie Barnes\n\nRosemarie is an inspirational speaker\, a presentation and vocal coach\, a certified teacher\, a classically trained singer\, choir and band director\, a writer\, and finally\, an entrepreneur (and she has the pieces of paper to prove she has been educated in all of it). Her company\, Confident Stages\, offers her as a speaker and teacher\, and provides classes for improving self-confidence using theatre games and techniques as the learning conduit. In her role as a presentation coach\, Rosemarie is uniquely qualified to help others be the best speakers they can be because she's a really good teacher\, because of her own training and experience as a speaker\, and her deep seated objection to the overuse and abuse of power point in the speaking arena. She has performed in theatres\, lecture halls\, boardrooms\, classrooms\, at conferences\, and in the shower.
X-ALT-DESC;FMTTYPE=text/html:When:&nbsp\;&nbsp\; &nbsp\;Tuesday\, September 22\, 2015<br />\nWhere:&nbsp\;&nbsp\; &nbsp\;Nanaimo Chamber of Commerce\, 2133 Bowen Road<br />\nTime: &nbsp\;&nbsp\; &nbsp\;7 am networking. 7:30-8:30 am Spark Session<br />\nCost:&nbsp\;&nbsp\; &nbsp\;FREE for our fabulous members<br />\n<br />\nA successful business person knows it takes skill\, awareness\, and certain knowledge to state your case\, present your arguments\, and ultimately gauge and adjust to your client&rsquo\;s reactions. What you say\, when and how you say it\, and a myriad of other options are available to you.<br />\nWhy bother?<br />\nBecause your bottom line\, your profit margin\, and your potential and continued business relationships depend on it!<br />\nAre your chosen words adequate? Is your body language belying your verbal message? Can you read whether your intent is hitting its mark?<br />\nIs your tone of voice appropriate? Can you manipulate your vocal intensity to suit your purposes? Are you using proximity to your advantage?<br />\nVerbal Skills for Business is an experiential workshop designed to increase awareness\, discover existing strengths\, and provide opportunities to experiment with the manner in which you express yourself and represent your company.<br />\n<br />\nRosemarie Barnes<br />\nThe Maverick Speaker<br />\nConfident Stages<br />\nwww.confidentstages.com<br />\nrbarnes@confidentstages.com<br />\n250 661-0994<br />\n<br />\nBio: Rosemarie Barnes<br />\nRosemarie is an inspirational speaker\, a presentation and vocal coach\, a certified teacher\, a classically trained singer\, choir and band director\, a writer\, and finally\, an entrepreneur (and she has the pieces of paper to prove she has been educated in all of it). Her company\, Confident Stages\, offers her as a speaker and teacher\, and provides classes for improving self-confidence using theatre games and techniques as the learning conduit. In her role as a presentation coach\, Rosemarie is uniquely qualified to help others be the best speakers they can be because she&rsquo\;s a really good teacher\, because of her own training and experience as a speaker\, and her deep seated objection to the overuse and abuse of power point in the speaking arena. She has performed in theatres\, lecture halls\, boardrooms\, classrooms\, at conferences\, and in the shower.
LOCATION:Chamber office 2133 Bowen Rd.
UID:e.1345.234
SEQUENCE:3
DTSTAMP:20260420T222509Z
URL:https://members.nanaimochamber.bc.ca/events/details/spark-session-verbal-skills-for-business-09-22-2015-234
END:VEVENT

END:VCALENDAR
