BEGIN:VCALENDAR
VERSION:2.0
PRODID:-//ChamberMaster//Event Calendar 2.0//EN
METHOD:PUBLISH
X-PUBLISHED-TTL:P3D
REFRESH-INTERVAL:P3D
CALSCALE:GREGORIAN
BEGIN:VEVENT
DTSTART:20150324T140000Z
DTEND:20150324T153000Z
X-MICROSOFT-CDO-ALLDAYEVENT:FALSE
SUMMARY:Spark Session: The Art of Service Recovery
DESCRIPTION:Customer Service with Worldhost facilitator\, Simona Sebastian\n\nWhen:    Tuesday\, March 24\, 2015\n\nWhere:    Chamber Offices - 2133 Bowen Rd\n\nTime:     7:00 am networking. Session starts at 7:30am and goes to 8:30am.\n\nCost:    Free for members - but please phone to secure a spot at 250-756-1191.
X-ALT-DESC;FMTTYPE=text/html:Customer Service with Worldhost facilitator\, Simona Sebastian<br />\nWhen:&nbsp\;&nbsp\; &nbsp\;Tuesday\, March 24\, 2015<br />\nWhere:&nbsp\;&nbsp\; &nbsp\;Chamber Offices - 2133 Bowen Rd<br />\nTime: &nbsp\;&nbsp\; &nbsp\;7:00 am networking. Session starts at 7:30am and goes to 8:30am.<br />\nCost:&nbsp\;&nbsp\; &nbsp\;Free for members - but please phone to secure a spot at 250-756-1191.
LOCATION:Chamber Office
UID:e.1345.197
SEQUENCE:3
DTSTAMP:20260421T081842Z
URL:https://members.nanaimochamber.bc.ca/events/details/spark-session-the-art-of-service-recovery-03-24-2015-197
END:VEVENT

END:VCALENDAR
