BEGIN:VCALENDAR
VERSION:2.0
PRODID:-//ChamberMaster//Event Calendar 2.0//EN
METHOD:PUBLISH
X-PUBLISHED-TTL:P3D
REFRESH-INTERVAL:P3D
CALSCALE:GREGORIAN
BEGIN:VEVENT
DTSTART;VALUE=DATE:20150522
DTEND;VALUE=DATE:20150523
TRANSP:TRANSPARENT
X-MICROSOFT-CDO-ALLDAYEVENT:TRUE
SUMMARY:Spark Session: Surviving Mobilegeddon
DESCRIPTION:Spark Session: Surviving Mobilegeddon\n\nFriday\, May 22nd from 10 am - 11 am.\n\n\n\nIf you've been caught up in Google's major search changes\, find out how you can make things better.  And if you haven't\, find out how not to get caught. Webinar led by George Plumley. Register now for this FREE and informative webinar.  \n\n\n\nFree for Nanaimo Chamber members!
X-ALT-DESC;FMTTYPE=text/html:Spark Session: Surviving Mobilegeddon<br />\nFriday\, May 22nd from 10 am - 11 am.<br />\n<br />\nIf you&#39\;ve been caught up in Google&#39\;s major search changes\, find out how you can make things better.&nbsp\; And if you haven&#39\;t\, find out how not to get caught. Webinar led by George Plumley. <a href="https://www.anymeeting.com/AccountManager/RegEv.aspx?PIID=EB58DA84804838">Register now</a> for this FREE and informative webinar.&nbsp\;&nbsp\;<br />\n<br />\nFree for Nanaimo Chamber members!
LOCATION:Webinar https://www.anymeeting.com/AccountManager/RegEv.aspx?PIID=EB58DA84804838
UID:e.1345.222
SEQUENCE:3
DTSTAMP:20260421T045016Z
URL:https://members.nanaimochamber.bc.ca/events/details/spark-session-surviving-mobilegeddon-05-22-2015-222
END:VEVENT

END:VCALENDAR
