BEGIN:VCALENDAR
VERSION:2.0
PRODID:-//ChamberMaster//Event Calendar 2.0//EN
METHOD:PUBLISH
X-PUBLISHED-TTL:P3D
REFRESH-INTERVAL:P3D
CALSCALE:GREGORIAN
BEGIN:VEVENT
DTSTART:20150716T140000Z
DTEND:20150716T153000Z
X-MICROSOFT-CDO-ALLDAYEVENT:FALSE
SUMMARY:Spark Session: Getting the Most out of your Employee Benefit Program
DESCRIPTION:Getting the most out of your employee benefit program - led by Frank Allen and David McCallum.   \n\n \n\nWhen:    Thursday\, July 16\, 2015\n\nWhere:    Staple Training Centre here at the Nanaimo Chamber of Commerce (2133 Bowen Road)\n\nTime:    7:00 am networking. 7:30 am - 8:30 am for session\n\nCost:    Free for members - but the information is PRICELESS.\n\nReserve your spot for this session by calling 250-756-1191\n\nLimited seating
X-ALT-DESC;FMTTYPE=text/html:Getting the most out of your employee benefit program - led by Frank Allen and David McCallum.&nbsp\; &nbsp\;<br />\n&nbsp\;<br />\nWhen:&nbsp\;&nbsp\; &nbsp\;Thursday\, July 16\, 2015<br />\nWhere:&nbsp\;&nbsp\; &nbsp\;Staple Training Centre here at the Nanaimo Chamber of Commerce (2133 Bowen Road)<br />\nTime:&nbsp\;&nbsp\; &nbsp\;7:00 am networking. 7:30 am - 8:30 am for session<br />\nCost:&nbsp\;&nbsp\; &nbsp\;Free for members - but the information is PRICELESS.<br />\nReserve your spot for this session by calling 250-756-1191<br />\nLimited seating
LOCATION:Chamber office
UID:e.1345.224
SEQUENCE:3
DTSTAMP:20260421T031059Z
URL:https://members.nanaimochamber.bc.ca/events/details/spark-session-getting-the-most-out-of-your-employee-benefit-program-07-16-2015-224
END:VEVENT

END:VCALENDAR
