BEGIN:VCALENDAR
VERSION:2.0
PRODID:-//ChamberMaster//Event Calendar 2.0//EN
METHOD:PUBLISH
X-PUBLISHED-TTL:P3D
REFRESH-INTERVAL:P3D
CALSCALE:GREGORIAN
BEGIN:VEVENT
DTSTART:20150818T140000Z
DTEND:20150818T153000Z
X-MICROSOFT-CDO-ALLDAYEVENT:FALSE
SUMMARY:Spark Session: Getting Inside Your Customers' Minds With Google Analytics
DESCRIPTION:Getting Inside Your Customers' Minds With Google Analytics with George Plumley\n\n\n\nWhen:    Tuesday\, August 18\, 2015\n\nWhere:    Staple Training Centre here at the Nanaimo Chamber of Commerce (2133 Bowen Road)\n\nTime:    7:00 am networking. 7:30 am - 8:30 am for session\n\nCost:    Free for members - but the information is PRICELESS.\n\n\n\nReserve your spot for this session by calling 250-756-1191   Limited seating
X-ALT-DESC;FMTTYPE=text/html:Getting Inside Your Customers&#39\; Minds With Google Analytics with George Plumley<br />\n<br />\nWhen:&nbsp\;&nbsp\; &nbsp\;Tuesday\, August 18\, 2015<br />\nWhere:&nbsp\;&nbsp\; &nbsp\;Staple Training Centre here at the Nanaimo Chamber of Commerce (2133 Bowen Road)<br />\nTime:&nbsp\;&nbsp\; &nbsp\;7:00 am networking. 7:30 am - 8:30 am for session<br />\nCost:&nbsp\;&nbsp\; &nbsp\;Free for members - but the information is PRICELESS.<br />\n<br />\nReserve your spot for this session by calling 250-756-1191&nbsp\;&nbsp\; Limited seating
LOCATION:Chamber office 2133 Bowen Rd.
UID:e.1345.228
SEQUENCE:3
DTSTAMP:20260420T234949Z
URL:https://members.nanaimochamber.bc.ca/events/details/spark-session-getting-inside-your-customers-minds-with-google-analytics-08-18-2015-228
END:VEVENT

END:VCALENDAR
