BEGIN:VCALENDAR
VERSION:2.0
PRODID:-//ChamberMaster//Event Calendar 2.0//EN
METHOD:PUBLISH
X-PUBLISHED-TTL:P3D
REFRESH-INTERVAL:P3D
CALSCALE:GREGORIAN
BEGIN:VEVENT
DTSTART:20151001T190000Z
DTEND:20151001T200000Z
X-MICROSOFT-CDO-ALLDAYEVENT:FALSE
SUMMARY:Spark Session: Exhibiting 101: Intro to Killing it
DESCRIPTION:When: Thursday\, October 1\, 2015\n\nTime: 12:00pm - 1:00pm\n\nWhere: Chamber of Commerce Training Room\n\n\n\nEvent Exhibiting is a great way to promote your company\, generate leads and make sales. Hosting an exhibit can generate huge hype for your company\, but it takes time\, money\, and a certain degree of flare.\n\n\n\nJust in time for the Nanaimo Chamber of Commerce Business Expo (October 22)\, Roar Representation will give you all the inside tips and tricks you need to make the most of your investment in event exhibiting. Roar Representation is the go to for event representation services\; it is our business to make your business generate business at public events. In order to make the 2015 Chamber Expo the best yet\, Roar is hosting a Spark Session to equip all Expo Exhibitors with the public engagement tools necessary for success.\n\n\n\nPresented by Lea Silver\, Roar's Owner/Operator and Public Engagement Specialist\, Event Exhibiting 101: Intro to Killing It\, will introduce 5 do's and 5 don't of event exhibiting in an open dialogue format. Participants will leave with tangible tools for success for their unique company and products.\n\n\n\nYou are investing the money\, the energy and the time into event exhibiting\, make sure you kill it!\n\n\n\nReserve your spot by calling 250-756-1191 ext 4. They will go fast. Remember\, Spark Sessions are FREE for members.
X-ALT-DESC;FMTTYPE=text/html:When: Thursday\, October 1\, 2015<br />\nTime: 12:00pm - 1:00pm<br />\nWhere: Chamber of Commerce Training Room<br />\n<br />\nEvent Exhibiting is a great way to promote your company\, generate leads and make sales. Hosting an exhibit can generate huge hype for your company\, but it takes time\, money\, and a certain degree of flare.<br />\n<br />\nJust in time for the Nanaimo Chamber of Commerce Business Expo (October 22)\, Roar Representation will give you all the inside tips and tricks you need to make the most of your investment in event exhibiting. Roar Representation is the go to for event representation services\; it is our business to make your business generate business at public events. In order to make the 2015 Chamber Expo the best yet\, Roar is hosting a Spark Session to equip all Expo Exhibitors with the public engagement tools necessary for success.<br />\n<br />\nPresented by Lea Silver\, Roar&rsquo\;s Owner/Operator and Public Engagement Specialist\, Event Exhibiting 101: Intro to Killing It\, will introduce 5 do&rsquo\;s and 5 don&rsquo\;t of event exhibiting in an open dialogue format. Participants will leave with tangible tools for success for their unique company and products.<br />\n<br />\nYou are investing the money\, the energy and the time into event exhibiting\, make sure you kill it!<br />\n<br />\nReserve your spot by calling 250-756-1191 ext 4. They will go fast. Remember\, Spark Sessions are FREE for members.<br />\n&nbsp\;
LOCATION:Chamber of Commerce 2133 Bowen Rd.
UID:e.1345.237
SEQUENCE:3
DTSTAMP:20260420T204004Z
URL:https://members.nanaimochamber.bc.ca/events/details/spark-session-exhibiting-101-intro-to-killing-it-10-01-2015-237
END:VEVENT

END:VCALENDAR
