BEGIN:VCALENDAR
VERSION:2.0
PRODID:-//ChamberMaster//Event Calendar 2.0//EN
METHOD:PUBLISH
X-PUBLISHED-TTL:P3D
REFRESH-INTERVAL:P3D
CALSCALE:GREGORIAN
BEGIN:VEVENT
DTSTART:20151008T190000Z
DTEND:20151008T200000Z
X-MICROSOFT-CDO-ALLDAYEVENT:FALSE
SUMMARY:Spark Session - Emergency Preparedness
DESCRIPTION:When:    Thursday\, October 8\, 2015\n\nTime:    12:00 - 1:00 pm (networking starts at 11:30 am)\n\nWhere:    Nanaimo Chamber of Commerce\, 2133 Bowen Road\n\nCost:    FREE for our fantastic members. Please RSVP -  250-756-1191 ext 4\n\n\n\nDetails:    Karen Lindsay - Emergency Program Manager - City of Nanaimo.\n\nPrepare yourself personally and become part of the solution to community recovery in a major emergency event.  Important topic.
X-ALT-DESC;FMTTYPE=text/html:When:&nbsp\;&nbsp\; &nbsp\;Thursday\, October 8\, 2015<br />\nTime:&nbsp\;&nbsp\; &nbsp\;12:00 - 1:00 pm (networking starts at 11:30 am)<br />\nWhere:&nbsp\;&nbsp\; &nbsp\;Nanaimo Chamber of Commerce\, 2133 Bowen Road<br />\nCost:&nbsp\;&nbsp\; &nbsp\;FREE for our fantastic members. Please RSVP -&nbsp\; 250-756-1191 ext 4<br />\n<br />\nDetails:&nbsp\;&nbsp\; &nbsp\;Karen Lindsay - Emergency Program Manager - City of Nanaimo.<br />\nPrepare yourself personally and become part of the solution to community recovery in a major emergency event.&nbsp\; Important topic.<br />\n&nbsp\;
LOCATION:Chamber of Commerce 2133 Bowen Rd
UID:e.1345.239
SEQUENCE:3
DTSTAMP:20260420T203634Z
URL:https://members.nanaimochamber.bc.ca/events/details/spark-session-emergency-preparedness-10-08-2015-239
END:VEVENT

END:VCALENDAR
