BEGIN:VCALENDAR
VERSION:2.0
PRODID:-//ChamberMaster//Event Calendar 2.0//EN
METHOD:PUBLISH
X-PUBLISHED-TTL:P3D
REFRESH-INTERVAL:P3D
CALSCALE:GREGORIAN
BEGIN:VEVENT
DTSTART:20150421T140000Z
DTEND:20150421T153000Z
X-MICROSOFT-CDO-ALLDAYEVENT:FALSE
SUMMARY:Spark Session - 'Dress for Success' presented by Derek Rickwood
DESCRIPTION:Spark Session  - 'Dress for Success' presented by Derek Rickwood\n\nWhen:    Tuesday\, April 21\, 2015\n\nWhere:    Chamber Offices - 2133 Bowen Rd\n\nTime:     7:00 am networking. Session starts at 7:30 am and goes to 8:30 am.\n\nCost:    Free for members - but please phone to secure a spot at 250-756-1191.
X-ALT-DESC;FMTTYPE=text/html:Spark Session&nbsp\; - &#39\;Dress for Success&#39\; presented by Derek Rickwood<br />\nWhen:&nbsp\;&nbsp\; &nbsp\;Tuesday\, April 21\, 2015<br />\nWhere:&nbsp\;&nbsp\; &nbsp\;Chamber Offices - 2133 Bowen Rd<br />\nTime: &nbsp\;&nbsp\; &nbsp\;7:00 am networking. Session starts at 7:30 am and goes to 8:30 am.<br />\nCost:&nbsp\;&nbsp\; &nbsp\;Free for members - but please phone to secure a spot at 250-756-1191.
LOCATION:Chamber office 2133 Bowen Road
UID:e.1345.203
SEQUENCE:3
DTSTAMP:20260421T063756Z
URL:https://members.nanaimochamber.bc.ca/events/details/spark-session-dress-for-success-presented-by-derek-rickwood-04-21-2015-203
END:VEVENT

END:VCALENDAR
