BEGIN:VCALENDAR
VERSION:2.0
PRODID:-//ChamberMaster//Event Calendar 2.0//EN
METHOD:PUBLISH
X-PUBLISHED-TTL:P3D
REFRESH-INTERVAL:P3D
CALSCALE:GREGORIAN
BEGIN:VEVENT
DTSTART:20151126T150000Z
DTEND:20151126T163000Z
X-MICROSOFT-CDO-ALLDAYEVENT:FALSE
SUMMARY:Spark Session: Bylaws/Graffiti/Parking with Barry Hornby
DESCRIPTION:When:     Thursday\, November 26\, 2015  \n\nWhere:    Nanaimo Chamber of Commerce\, 2133 Bowen Road\n\nTime:      7:00 am - 7:30 am Networking\n\n              7:30 am - 8:30 am Spark Session\n\nCost:      Free for members\n\nPlease register by calling 250-756-1191 ext 4  \n\nDetails:   City of Nanaimo Bylaw Enforcement Officer\, Barry Hornby\, will be covering topics on graffiti\, parking and other questions you make have on bylaws.
X-ALT-DESC;FMTTYPE=text/html:When: &nbsp\;&nbsp\;&nbsp\; Thursday\, November 26\, 2015 &nbsp\;<br />\nWhere: &nbsp\;&nbsp\; Nanaimo Chamber of Commerce\, 2133 Bowen Road<br />\nTime: &nbsp\;&nbsp\;&nbsp\; &nbsp\;7:00 am - 7:30 am Networking<br />\n&nbsp\;&nbsp\;&nbsp\;&nbsp\;&nbsp\;&nbsp\;&nbsp\;&nbsp\;&nbsp\;&nbsp\;&nbsp\;&nbsp\;&nbsp\; 7:30 am - 8:30 am Spark Session<br />\nCost: &nbsp\;&nbsp\;&nbsp\; &nbsp\;Free for members<br />\nPlease register by calling 250-756-1191 ext 4 &nbsp\;<br />\nDetails: &nbsp\; City of Nanaimo Bylaw Enforcement Officer\, Barry Hornby\, will be covering topics on graffiti\, parking and other questions you make have on bylaws.
LOCATION:Chamber of Commerce office 2133 Bowen Road
UID:e.1345.245
SEQUENCE:3
DTSTAMP:20260420T190739Z
URL:https://members.nanaimochamber.bc.ca/events/details/spark-session-bylaws-graffiti-parking-with-barry-hornby-11-26-2015-245
END:VEVENT

END:VCALENDAR
