BEGIN:VCALENDAR
VERSION:2.0
PRODID:-//ChamberMaster//Event Calendar 2.0//EN
METHOD:PUBLISH
X-PUBLISHED-TTL:P3D
REFRESH-INTERVAL:P3D
CALSCALE:GREGORIAN
BEGIN:VEVENT
DTSTART:20150618T160000Z
DTEND:20150618T190000Z
X-MICROSOFT-CDO-ALLDAYEVENT:FALSE
SUMMARY:Spark Session: Build Your Marketing Toolkit-Harness the Power of Email
DESCRIPTION:Spark Session - a long one - but a good one.\n\nBuild Your Marketing Toolkit - Harness the Power of Email\n\nWhen:    Thursday\, June 18\, 2015\n\nWhere:    Staple Training Centre here at the Nanaimo Chamber of Commerce (2133 Bowen Road)\n\nTime:     9 am (SHARP) - 12 pm.\n\nCost:    Free - but the information is PRICELESS.\n\nReserve your spot for this session by calling 250-756-1191\n\nLimited seating
X-ALT-DESC;FMTTYPE=text/html:Spark Session - a long one - but a good one.<br />\nBuild Your Marketing Toolkit - Harness the Power of Email<br />\nWhen:&nbsp\;&nbsp\;&nbsp\; Thursday\, June 18\, 2015<br />\nWhere:&nbsp\;&nbsp\; &nbsp\;Staple Training Centre here at the Nanaimo Chamber of Commerce (2133 Bowen Road)<br />\nTime: &nbsp\;&nbsp\; &nbsp\;9 am (SHARP) - 12 pm.<br />\nCost:&nbsp\;&nbsp\; &nbsp\;Free - but the information is PRICELESS.<br />\nReserve your spot for this session by calling 250-756-1191<br />\nLimited seating
LOCATION:Chamber office 2133 Bowen Rd.
UID:e.1345.223
SEQUENCE:3
DTSTAMP:20260421T031325Z
URL:https://members.nanaimochamber.bc.ca/events/details/spark-session-build-your-marketing-toolkit-harness-the-power-of-email-06-18-2015-223
END:VEVENT

END:VCALENDAR
