BEGIN:VCALENDAR
VERSION:2.0
PRODID:-//ChamberMaster//Event Calendar 2.0//EN
METHOD:PUBLISH
X-PUBLISHED-TTL:P3D
REFRESH-INTERVAL:P3D
CALSCALE:GREGORIAN
BEGIN:VEVENT
DTSTART:20150917T170000Z
DTEND:20150917T180000Z
X-MICROSOFT-CDO-ALLDAYEVENT:FALSE
SUMMARY:Spark Session: Affordable Legal Protection For Today?s Small Business Owner
DESCRIPTION:Presenter: Kalon Goodrich\, LegalShield\n\nWhen:    Thursday\, September 17\, 2015\n\nWhere:    Your computer\n\nTime:     10 am - 11 am\n\nLink for online webinar    https://www.anymeeting.com/713-729-337
X-ALT-DESC;FMTTYPE=text/html:Presenter: Kalon Goodrich\, LegalShield<br />\nWhen:&nbsp\;&nbsp\; &nbsp\;Thursday\, September 17\, 2015<br />\nWhere:&nbsp\;&nbsp\; &nbsp\;Your computer<br />\nTime: &nbsp\;&nbsp\; &nbsp\;10 am - 11 am<br />\nLink for online webinar&nbsp\;&nbsp\; &nbsp\;<a href="https://www.anymeeting.com/713-729-337">https://www.anymeeting.com/713-729-337</a>
LOCATION:Webinar
UID:e.1345.235
SEQUENCE:3
DTSTAMP:20260420T222509Z
URL:https://members.nanaimochamber.bc.ca/events/details/spark-session-affordable-legal-protection-for-today-s-small-business-owner-09-17-2015-235
END:VEVENT

END:VCALENDAR
