BEGIN:VCALENDAR
VERSION:2.0
PRODID:-//ChamberMaster//Event Calendar 2.0//EN
METHOD:PUBLISH
X-PUBLISHED-TTL:P3D
REFRESH-INTERVAL:P3D
CALSCALE:GREGORIAN
BEGIN:VEVENT
DTSTART:20160129T193000Z
DTEND:20160129T210000Z
X-MICROSOFT-CDO-ALLDAYEVENT:FALSE
SUMMARY:Spark Session 5 New Year's Resolutions for Business Websites
DESCRIPTION:5 New Year's Resolutions for Business Websites\n\nled by George Plumley
X-ALT-DESC;FMTTYPE=text/html:5 New Year&#39\;s Resolutions for Business Websites<br />\nled by George Plumley<br />\n&nbsp\;
LOCATION:Nanaimo Chamber of Commerce 2133 Bowen Road Nanaimo\, BC V9S 1H8
UID:e.1345.446
SEQUENCE:3
DTSTAMP:20260420T161633Z
URL:https://members.nanaimochamber.bc.ca/events/details/spark-session-5-new-year-s-resolutions-for-business-websites-01-29-2016-446
END:VEVENT

END:VCALENDAR
