BEGIN:VCALENDAR
VERSION:2.0
PRODID:-//ChamberMaster//Event Calendar 2.0//EN
METHOD:PUBLISH
X-PUBLISHED-TTL:P3D
REFRESH-INTERVAL:P3D
CALSCALE:GREGORIAN
BEGIN:VEVENT
DTSTART:20170518T150000Z
DTEND:20170518T163000Z
X-MICROSOFT-CDO-ALLDAYEVENT:FALSE
SUMMARY:SOLD OUT - Good Morning Mastery - Maximizing Linkedin to Grow your Business
DESCRIPTION:Maximizing LinkedIn to Grow Your Business \n\nFeaturing Janice Porter\, LinkedIn Specialist\n\n \n\nIs LinkedIn a mystery to you?  What does your LinkedIn profile say about you? Are you frustrated with or underutilizing LinkedIn? Do you want to attract prospects and clients from LinkedIn? \n\n \n\nIf you ever wonder why you are even on LinkedIn or just can't figure out what to do after you have a great profile   then this workshop is for you.   \n\n \n\nIf you are not interacting with other LinkedIn members you are missing a huge opportunity to reach potential clients\, collaborators\, and connections that can make a huge difference in your business.   \n\n \n\nThe good news is it's easy to make LinkedIn work for you! \n\n \n\nIn this 90-minute session you will learn: \n\n	The key components of a truly optimized\, engaging LinkedIn profile\n	How to showcase your unique skills and all you have to offer\n	The importance of growing your network on LinkedIn and how to systematically get started\n	Ways to become more visible and credible on LinkedIn and get found online\n	Strategies for generating leads and building relationships on LinkedIn\n	What it takes to make LinkedIn work for you and your business
X-ALT-DESC;FMTTYPE=text/html:<strong><span style="font-size:12pt\;">Maximizing LinkedIn to Grow Your Business </span></strong><br />\n<span style="font-size:12pt\;">Featuring Janice Porter\, LinkedIn Specialist</span><br />\n&nbsp\;<br />\n<span style="font-size:12pt\;">Is LinkedIn a mystery to you?&nbsp\; What does your LinkedIn profile say about you? Are you frustrated with or underutilizing LinkedIn? Do you want to attract prospects and clients from LinkedIn? </span><br />\n&nbsp\;<br />\n<span style="font-size:12pt\;">If you ever wonder why you are even on LinkedIn or just can&rsquo\;t figure out what to do after you have a great profile &ndash\; then this workshop is for you.&nbsp\;&nbsp\; </span><br />\n&nbsp\;<br />\n<span style="font-size:12pt\;">If you are not interacting with other LinkedIn members you are missing a huge opportunity to reach potential clients\, collaborators\, and connections that can make a huge difference in your business.&nbsp\;&nbsp\; </span><br />\n&nbsp\;<br />\n<span style="font-size:12pt\;">The good news is it&rsquo\;s easy to make LinkedIn work for you! </span><br />\n&nbsp\;<br />\n<span style="font-size:12pt\;">In this 90-minute session you will learn: </span>\n<ul>\n	<li><span style="font-size:12pt\;">The key components of a truly optimized\, engaging LinkedIn profile</span></li>\n	<li><span style="font-size:12pt\;">How to showcase your unique skills and all you have to offer</span></li>\n	<li><span style="font-size:12pt\;">The importance of growing your network on LinkedIn and how to systematically get started</span></li>\n	<li><span style="font-size:12pt\;">Ways to become more visible and credible on LinkedIn and get found online</span></li>\n	<li><span style="font-size:12pt\;">Strategies for generating leads and building relationships on LinkedIn</span></li>\n	<li><span style="font-size:12pt\;">What it takes to make LinkedIn work for you and your business</span></li>\n</ul>\n&nbsp\;<br />\n&nbsp\;<br />\n&nbsp\;<br />\n&nbsp\;
LOCATION:
UID:e.1345.544
SEQUENCE:3
DTSTAMP:20260419T162249Z
URL:https://members.nanaimochamber.bc.ca/events/details/sold-out-good-morning-mastery-maximizing-linkedin-to-grow-your-business-544
END:VEVENT

END:VCALENDAR
