BEGIN:VCALENDAR
VERSION:2.0
PRODID:-//ChamberMaster//Event Calendar 2.0//EN
METHOD:PUBLISH
X-PUBLISHED-TTL:P3D
REFRESH-INTERVAL:P3D
CALSCALE:GREGORIAN
BEGIN:VEVENT
DTSTART:20150304T000000Z
DTEND:20150304T013000Z
X-MICROSOFT-CDO-ALLDAYEVENT:FALSE
SUMMARY:Social Enterprise Catalyst
DESCRIPTION:Happens here in Nanaimo on Tuesday\, March 3\, 2015. Join us at Vancouver Island Conference Centre\, Shaw Auditorium - 4-5:30 pm for a free information session.\n\nLearn how your organization can enter to compete in the Dragon's Den like competition for $50\,000 in cash and technical support available through Catalyst.  \n\nTo RSVP and pre-register here for the launch or call 250-756-1191\n\nFor more information:\n\nwww.secatalyst.ca
X-ALT-DESC;FMTTYPE=text/html:Happens here in Nanaimo on Tuesday\, March 3\, 2015. Join us at Vancouver Island Conference Centre\, Shaw Auditorium - 4-5:30 pm for a free information session.<br />\nLearn how your organization can enter to compete in the Dragon&#39\;s Den like competition for $50\,000 in cash and technical support available through Catalyst. &nbsp\;<br />\nTo RSVP and <a href="mailto:registration@nanaimochamber.bc.ca?subject=Social%20Catalyst">pre-register here</a> for the launch or call 250-756-1191<br />\nFor more information:<br />\n<a href="http://www.secatalyst.ca">www.secatalyst.ca</a>
LOCATION:Vancouver Island Conference Ctr Shaw Auditorium
UID:e.1345.199
SEQUENCE:3
DTSTAMP:20260421T094218Z
URL:https://members.nanaimochamber.bc.ca/events/details/social-enterprise-catalyst-03-03-2015-199
END:VEVENT

END:VCALENDAR
