BEGIN:VCALENDAR
VERSION:2.0
PRODID:-//ChamberMaster//Event Calendar 2.0//EN
METHOD:PUBLISH
X-PUBLISHED-TTL:P3D
REFRESH-INTERVAL:P3D
CALSCALE:GREGORIAN
BEGIN:VEVENT
DTSTART:20160618T010000Z
DTEND:20160618T043000Z
X-MICROSOFT-CDO-ALLDAYEVENT:FALSE
SUMMARY:Sips at Feastival
DESCRIPTION:Sips at Feastival\n\nFeaturing tastes of Craft Breweries\, small batch island wineries\, local artisanal spirit producers
X-ALT-DESC;FMTTYPE=text/html:<strong>Sips at Feastival</strong><br />\nFeaturing tastes of Craft Breweries\, small batch island wineries\, local artisanal spirit producers<br />\n&nbsp\;
LOCATION:Vancouver Island Conference Centre
UID:e.1345.473
SEQUENCE:3
DTSTAMP:20260420T082358Z
URL:https://members.nanaimochamber.bc.ca/events/details/sips-at-feastival-06-17-2016-473
END:VEVENT

END:VCALENDAR
