BEGIN:VCALENDAR
VERSION:2.0
PRODID:-//ChamberMaster//Event Calendar 2.0//EN
METHOD:PUBLISH
X-PUBLISHED-TTL:P3D
REFRESH-INTERVAL:P3D
CALSCALE:GREGORIAN
BEGIN:VEVENT
DTSTART;VALUE=DATE:20130318
DTEND;VALUE=DATE:20130319
TRANSP:TRANSPARENT
X-MICROSOFT-CDO-ALLDAYEVENT:TRUE
SUMMARY:Simon Sinek
DESCRIPTION:Coastal Community Credit Union & the Nanaimo Daily News are pleased to present Simon Sinek\, author of "Start With Why" March 18\, 2013 at the Port Theatre\, Tickets $65.\n\n\n\nCall 250.754.8550 or visit www.porttheatre.com\n\n\n\nClick here for poster.
X-ALT-DESC;FMTTYPE=text/html:Coastal Community Credit Union &amp\; the Nanaimo Daily News are pleased to present Simon Sinek\, author of &ldquo\;Start With Why&rdquo\; March 18\, 2013 at the Port Theatre\, Tickets $65.<br />\n<br />\nCall 250.754.8550 or visit <a href="http://www.porttheatre.com">www.porttheatre.com</a><br />\n<br />\n<a href="http://cloud.chambermaster.com/userfiles/UserFiles/chambers/1345/File/SimonNew.pdf">Click here for poster.</a>
LOCATION:The Port Theatre
UID:e.1345.73
SEQUENCE:3
DTSTAMP:20260423T005134Z
URL:https://members.nanaimochamber.bc.ca/events/details/simon-sinek-03-18-2013-73
END:VEVENT

END:VCALENDAR
