BEGIN:VCALENDAR
VERSION:2.0
PRODID:-//ChamberMaster//Event Calendar 2.0//EN
METHOD:PUBLISH
X-PUBLISHED-TTL:P3D
REFRESH-INTERVAL:P3D
CALSCALE:GREGORIAN
BEGIN:VEVENT
DTSTART:20120912T183000Z
DTEND:20120912T200000Z
X-MICROSOFT-CDO-ALLDAYEVENT:FALSE
SUMMARY:September Membership Luncheon
DESCRIPTION:Membership Luncheon\n\n	Time: Buffet lunch begins 11:30am\n\n	Where: Coast Bastion Inn\n\n	Speaker: Dave Hutchinson\, Superintendent of Schools/CEO\, SD 68\n\n	Sponsor: PI Granite Fabricators & Studio Kitchens & Design Ltd.\n\n	Cost: Members: $31.25 (+ HST)\; Non-Members: $45.00 (+ HST)\n\n	Please Note: Pre-payment and Reservations required. Refunds will be issued with 24 hours notice.
X-ALT-DESC;FMTTYPE=text/html:<div style="color: gray">\n	<span style="font-size: 12px"><span style="font-family: arial"><span style="color: #2891d6"><b>Membership Luncheon</b></span></span></span><br />\n	<strong>Time: </strong>Buffet lunch begins 11:30am<br />\n	<strong>Where: </strong>Coast Bastion&nbsp\;Inn<br />\n	<strong>Speaker: </strong>Dave Hutchinson\, Superintendent of&nbsp\;Schools/CEO\, SD 68<br />\n	<strong>Sponsor: </strong>PI Granite Fabricators &amp\; Studio Kitchens &amp\; Design Ltd.<br />\n	<strong>Cost:&nbsp\;</strong>Members:<strong>&nbsp\;</strong>$31.25 (+ HST)\; Non-Members: $45.00&nbsp\;(+ HST)<br />\n	<em><strong>Please Note: Pre-payment and Reservations required. Refunds will be issued with 24 hours notice.</strong></em></div>\n
LOCATION:Coast Bastion Inn 11 Bastion St.
UID:e.1345.30
SEQUENCE:3
DTSTAMP:20260423T103609Z
URL:https://members.nanaimochamber.bc.ca/events/details/september-membership-luncheon-09-12-2012-30
END:VEVENT

END:VCALENDAR
