BEGIN:VCALENDAR
VERSION:2.0
PRODID:-//ChamberMaster//Event Calendar 2.0//EN
METHOD:PUBLISH
X-PUBLISHED-TTL:P3D
REFRESH-INTERVAL:P3D
CALSCALE:GREGORIAN
BEGIN:VEVENT
DTSTART;VALUE=DATE:20150909
DTEND;VALUE=DATE:20150910
TRANSP:TRANSPARENT
X-MICROSOFT-CDO-ALLDAYEVENT:TRUE
SUMMARY:September Membership Luncheon
DESCRIPTION:Membership Luncheon\n\nTime: Buffet lunch begins 11:30am\n\nWhere: Coast Bastion Hotel\, 11 Bastion St.\n\nSpeaker: BC Restaurant and Food Services Association\n\nCost: Members: $34.00 (+ GST)\; Non-Members: $50.00 (+ GST)\n\nPlease Note: Pre-payment and Reservations required. Refunds will be issued with 48 hours notice.\n\n\n\nNOTE: Cut off for all luncheons are ONE WEEK before the scheduled lunches. After that time\, there will be an additional $7 added to tickets.\n\n\n\nCancellation Policy\n\nThe Greater Nanaimo Chamber of Commerce maintains a 48 hour minimum (2 business days) cancellation policy for all Chamber events. Cancellations made with less than 48 hours' notice are not eligible for a refund.  Unpaid registrations will be invoiced. This includes any function for which a charge is made. If you are unable to attend an event for which you have registered\, consider offering your spot to a colleague\, staff member or customer as a gift. There is no additional charge to transfer your registration to someone else. Simply notify the Chamber by calling 250-756-1191.\n\nThank you for your cooperation.
X-ALT-DESC;FMTTYPE=text/html:<div style="color: gray"><span style="font-size: 12px"><span style="font-family: arial"><span style="color: #2891d6"><b>Membership Luncheon</b></span></span></span><br />\n<span style="color:#000000\;"><strong>Time: </strong>Buffet lunch begins 11:30am</span><br />\n<span style="color:#000000\;"><strong>Where: </strong>Coast Bastion Hotel\, 11 Bastion St.<br />\n<strong>Speaker: </strong>BC Restaurant and Food Services Association</span><br />\n<span style="color:#000000\;"><strong>Cost:&nbsp\;</strong>Members:<strong>&nbsp\;</strong>$34.00 (+ GST)\; Non-Members: $50.00&nbsp\;(+ GST)<br />\n<em><strong>Please Note: Pre-payment and Reservations required. Refunds will be issued with 48 hours notice.</strong></em></span><br />\n<br />\n<span style="color:#FF0000\;"><strong><em>NOTE: Cut off for all luncheons are ONE WEEK before the scheduled lunches. After that time\, there will be an additional $7 added to tickets.</em></strong></span><br />\n<br />\n<span style="color:#000000\;"><strong>Cancellation Policy</strong><br />\nThe Greater Nanaimo Chamber of Commerce maintains a 48 hour minimum (2 business days) cancellation policy for all Chamber events. Cancellations made with less than 48 hours&rsquo\; notice are not eligible for a refund.&nbsp\; Unpaid registrations will be invoiced. This includes any function for which a charge is made. If you are unable to attend an event for which you have registered\, consider offering your spot to a colleague\, staff member or customer as a gift. There is no additional charge to transfer your registration to someone else. Simply notify the Chamber by calling 250-756-1191.<br />\nThank you for your cooperation.</span></div>\n
LOCATION:Coast Bastion Hotel 11 Bastion St.
UID:e.1345.219
SEQUENCE:3
DTSTAMP:20260420T235121Z
URL:https://members.nanaimochamber.bc.ca/events/details/september-membership-luncheon-09-09-2015-219
END:VEVENT

END:VCALENDAR
