BEGIN:VCALENDAR
VERSION:2.0
PRODID:-//ChamberMaster//Event Calendar 2.0//EN
METHOD:PUBLISH
X-PUBLISHED-TTL:P3D
REFRESH-INTERVAL:P3D
CALSCALE:GREGORIAN
BEGIN:VEVENT
DTSTART:20120919T143000Z
DTEND:20120919T153000Z
X-MICROSOFT-CDO-ALLDAYEVENT:FALSE
SUMMARY:September Business before Business
DESCRIPTION:Morning networking event\, no cost to attend. Bring lots of business cards and network with your fellow Chamber members and business professionals.\n\n\n\nWhere: The Salvation Army\, 19 Nicol St.
X-ALT-DESC;FMTTYPE=text/html:Morning networking event\, no cost to attend. Bring lots of business cards and network with your fellow Chamber members and business professionals.<br />\n<br />\n<strong>Where:</strong> The Salvation Army\, 19 Nicol St.
LOCATION:Salvation Army\, 19 Nicol St.
UID:e.1345.35
SEQUENCE:3
DTSTAMP:20260423T115737Z
URL:https://members.nanaimochamber.bc.ca/events/details/september-business-before-business-09-19-2012-35
END:VEVENT

END:VCALENDAR
