BEGIN:VCALENDAR
VERSION:2.0
PRODID:-//ChamberMaster//Event Calendar 2.0//EN
METHOD:PUBLISH
X-PUBLISHED-TTL:P3D
REFRESH-INTERVAL:P3D
CALSCALE:GREGORIAN
BEGIN:VEVENT
DTSTART:20130918T143000Z
DTEND:20130918T153000Z
X-MICROSOFT-CDO-ALLDAYEVENT:FALSE
SUMMARY:September Business before Business
DESCRIPTION:Morning networking event\, no cost to attend. Bring lots of business cards and network with your fellow Chamber members and business professionals.\n\n\n\nHost: The Port Theatre\, 125 Front St.
X-ALT-DESC;FMTTYPE=text/html:Morning networking event\, no cost to attend. Bring lots of business cards and network with your fellow Chamber members and business professionals.<br />\n<br />\n<strong>Host:</strong> The Port Theatre\, 125 Front St.
LOCATION:The Port Theatre 125 Front St.
UID:e.1345.93
SEQUENCE:3
DTSTAMP:20260422T140757Z
URL:https://members.nanaimochamber.bc.ca/events/details/september-business-before-business-09-18-2013-93
END:VEVENT

END:VCALENDAR
