BEGIN:VCALENDAR
VERSION:2.0
PRODID:-//ChamberMaster//Event Calendar 2.0//EN
METHOD:PUBLISH
X-PUBLISHED-TTL:P3D
REFRESH-INTERVAL:P3D
CALSCALE:GREGORIAN
BEGIN:VEVENT
DTSTART:20140917T143000Z
DTEND:20140917T153000Z
X-MICROSOFT-CDO-ALLDAYEVENT:FALSE
SUMMARY:September Business before Business
DESCRIPTION:Morning networking event\, no cost to attend. Bring lots of business cards and network with your fellow Chamber members and business professionals.\n\n\n\nAdmission by donation to the Loaves & Fishes Food Bank.\n\n\n\nHost: AGS Business Systems\n\n1 - 1850 Northfield Rd.
X-ALT-DESC;FMTTYPE=text/html:Morning networking event\, no cost to attend. Bring lots of business cards and network with your fellow Chamber members and business professionals.<br />\n<br />\nAdmission by donation to the Loaves &amp\; Fishes Food Bank.<br />\n<br />\n<strong>Host:</strong> AGS Business Systems<br />\n1 - 1850 Northfield Rd.
LOCATION:AGS Business Systems 1 - 1850 Northfield Rd.
UID:e.1345.153
SEQUENCE:3
DTSTAMP:20260421T174907Z
URL:https://members.nanaimochamber.bc.ca/events/details/september-business-before-business-09-17-2014-153
END:VEVENT

END:VCALENDAR
