BEGIN:VCALENDAR
VERSION:2.0
PRODID:-//ChamberMaster//Event Calendar 2.0//EN
METHOD:PUBLISH
X-PUBLISHED-TTL:P3D
REFRESH-INTERVAL:P3D
CALSCALE:GREGORIAN
BEGIN:VEVENT
DTSTART:20150916T143000Z
DTEND:20150916T153000Z
X-MICROSOFT-CDO-ALLDAYEVENT:FALSE
SUMMARY:September Business before Business
DESCRIPTION:Morning networking event\, no cost to attend. Bring lots of business cards and network with your fellow Chamber members and business professionals.\n\n\n\nAdmission by donation to the local food banks\n\n\n\nHost: Herbal Magic\, 1-6332 Metral Dr.
X-ALT-DESC;FMTTYPE=text/html:Morning networking event\, no cost to attend. Bring lots of business cards and network with your fellow Chamber members and business professionals.<br />\n<br />\nAdmission by donation to the local food banks<br />\n<br />\n<strong>Host:</strong> Herbal Magic\, 1-6332 Metral Dr.
LOCATION:Herbal Magic 1-6332 Metral Dr.
UID:e.1345.220
SEQUENCE:3
DTSTAMP:20260420T235252Z
URL:https://members.nanaimochamber.bc.ca/events/details/september-business-before-business-09-16-2015-220
END:VEVENT

END:VCALENDAR
