BEGIN:VCALENDAR
VERSION:2.0
PRODID:-//ChamberMaster//Event Calendar 2.0//EN
METHOD:PUBLISH
X-PUBLISHED-TTL:P3D
REFRESH-INTERVAL:P3D
CALSCALE:GREGORIAN
BEGIN:VEVENT
DTSTART:20120928T000000Z
DTEND:20120928T020000Z
X-MICROSOFT-CDO-ALLDAYEVENT:FALSE
SUMMARY:September Business after Business
DESCRIPTION:After work networking event\, no cost to attend. Bring lots of business cards and network with your fellow Chamber members and business professionals.\n\n\n\nWhere: Academy of Learning\, 7-1551 Estevan Rd.
X-ALT-DESC;FMTTYPE=text/html:<span style="font-size: 9pt"><span style="color: #252525"><span style="font-family: arial\, sans-serif">After work networking event\, no cost to attend. Bring lots of business cards and network with your fellow Chamber members and business professionals.</span></span></span><br />\n<br />\n<span style="color: #000000"><strong>Where: </strong>Academy of Learning\, 7-1551 Estevan Rd.</span>
LOCATION:Academy of Learning\, 7-1551 Estevan Rd.
UID:e.1345.38
SEQUENCE:3
DTSTAMP:20260423T103803Z
URL:https://members.nanaimochamber.bc.ca/events/details/september-business-after-business-09-27-2012-38
END:VEVENT

END:VCALENDAR
