BEGIN:VCALENDAR
VERSION:2.0
PRODID:-//ChamberMaster//Event Calendar 2.0//EN
METHOD:PUBLISH
X-PUBLISHED-TTL:P3D
REFRESH-INTERVAL:P3D
CALSCALE:GREGORIAN
BEGIN:VEVENT
DTSTART:20150925T000000Z
DTEND:20150925T020000Z
X-MICROSOFT-CDO-ALLDAYEVENT:FALSE
SUMMARY:September Business after Business
DESCRIPTION:After work networking event\, no cost to attend. Bring lots of business cards and network with your fellow Chamber members and business professionals.\n\n\n\nHost: NoodleBox\, 107-648 Terminal Ave.
X-ALT-DESC;FMTTYPE=text/html:<span style="font-size: 9pt"><span style="color: #252525"><span style="font-family: arial\, sans-serif">After work networking event\, no cost to attend. Bring lots of business cards and network with your fellow Chamber members and business professionals.</span></span></span><br />\n<br />\n<span style="color: #000000"><strong>Host: </strong>NoodleBox\, 107-648 Terminal Ave.</span>
LOCATION:NoodleBox 107-648 Terminal Ave.
UID:e.1345.221
SEQUENCE:3
DTSTAMP:20260420T235415Z
URL:https://members.nanaimochamber.bc.ca/events/details/september-business-after-business-09-24-2015-221
END:VEVENT

END:VCALENDAR
