BEGIN:VCALENDAR
VERSION:2.0
PRODID:-//ChamberMaster//Event Calendar 2.0//EN
METHOD:PUBLISH
X-PUBLISHED-TTL:P3D
REFRESH-INTERVAL:P3D
CALSCALE:GREGORIAN
BEGIN:VEVENT
DTSTART:20161126T210000Z
DTEND:20161127T030000Z
X-MICROSOFT-CDO-ALLDAYEVENT:FALSE
SUMMARY:Santa Claus Parade
DESCRIPTION:Decorating the Float from 1 pm to 3:30 pm\n\nParade 5 pm
X-ALT-DESC;FMTTYPE=text/html:Decorating the Float from 1 pm to 3:30 pm<br />\nParade 5 pm
LOCATION:
UID:e.1345.486
SEQUENCE:3
DTSTAMP:20260420T000505Z
URL:https://members.nanaimochamber.bc.ca/events/details/santa-claus-parade-486
END:VEVENT

END:VCALENDAR
