BEGIN:VCALENDAR
VERSION:2.0
PRODID:-//ChamberMaster//Event Calendar 2.0//EN
METHOD:PUBLISH
X-PUBLISHED-TTL:P3D
REFRESH-INTERVAL:P3D
CALSCALE:GREGORIAN
BEGIN:VEVENT
DTSTART:20141113T200000Z
DTEND:20141113T220000Z
X-MICROSOFT-CDO-ALLDAYEVENT:FALSE
SUMMARY:Ribbon Cutting - Shine On Chrome & Graphic Finishes
DESCRIPTION:Ribbon Cutting at Shine On Chrome and Graphic Finishes\, 4-1585 Bowen Rd.
X-ALT-DESC;FMTTYPE=text/html:<span style="language:en-CA\;"><span style="color:black\;"><span style="font-family:calibri\;"><span style="font-size:11.0pt\;">Ribbon Cutting at Shine On Chrome and Graphic Finishes\, 4-1585 Bowen Rd. </span></span></span></span>
LOCATION:Shine On Chrome and Graphic Finishes\, 4-1585 Bowen Rd.
UID:e.1345.176
SEQUENCE:3
DTSTAMP:20260421T143315Z
URL:https://members.nanaimochamber.bc.ca/events/details/ribbon-cutting-shine-on-chrome-graphic-finishes-11-13-2014-176
END:VEVENT

END:VCALENDAR
