BEGIN:VCALENDAR
VERSION:2.0
PRODID:-//ChamberMaster//Event Calendar 2.0//EN
METHOD:PUBLISH
X-PUBLISHED-TTL:P3D
REFRESH-INTERVAL:P3D
CALSCALE:GREGORIAN
BEGIN:VEVENT
DTSTART:20141106T200000Z
DTEND:20141106T220000Z
X-MICROSOFT-CDO-ALLDAYEVENT:FALSE
SUMMARY:Ribbon Cutting - Bent Tree Wellness
DESCRIPTION:Ribbon Cutting at Bent Tree Wellness\, 123A Nicol St.
X-ALT-DESC;FMTTYPE=text/html:Ribbon Cutting at Bent Tree Wellness\, 123A Nicol St.
LOCATION:Bent Tree Wellness\, 123A Nicol St.
UID:e.1345.178
SEQUENCE:3
DTSTAMP:20260421T143548Z
URL:https://members.nanaimochamber.bc.ca/events/details/ribbon-cutting-bent-tree-wellness-11-06-2014-178
END:VEVENT

END:VCALENDAR
