BEGIN:VCALENDAR
VERSION:2.0
PRODID:-//ChamberMaster//Event Calendar 2.0//EN
METHOD:PUBLISH
X-PUBLISHED-TTL:P3D
REFRESH-INTERVAL:P3D
CALSCALE:GREGORIAN
BEGIN:VEVENT
DTSTART:20140613T000000Z
DTEND:20140613T020000Z
X-MICROSOFT-CDO-ALLDAYEVENT:FALSE
SUMMARY:Ribbon Cutting at Arbutus Distilleries
DESCRIPTION:We invite you to join us in seeking a greater spirit on Thursday\, June 12th from 5-7 pm at 1890 Boxwood Rd. There will be Arbutus Distillery facility tours\, sample cocktails\, tastings and door prizes.
X-ALT-DESC;FMTTYPE=text/html:We invite you to join us in seeking a greater spirit on Thursday\, June 12th from 5-7 pm at 1890 Boxwood Rd. There will be Arbutus Distillery facility tours\, sample cocktails\, tastings and door prizes.
LOCATION:1890 Boxwood Rd.
UID:e.1345.154
SEQUENCE:3
DTSTAMP:20260421T225110Z
URL:https://members.nanaimochamber.bc.ca/events/details/ribbon-cutting-at-arbutus-distilleries-06-12-2014-154
END:VEVENT

END:VCALENDAR
