BEGIN:VCALENDAR
VERSION:2.0
PRODID:-//ChamberMaster//Event Calendar 2.0//EN
METHOD:PUBLISH
X-PUBLISHED-TTL:P3D
REFRESH-INTERVAL:P3D
CALSCALE:GREGORIAN
BEGIN:VEVENT
DTSTART:20120120T030000Z
DTEND:20120120T050000Z
X-MICROSOFT-CDO-ALLDAYEVENT:FALSE
SUMMARY:Rethinking Nanaimo: Its Future as a Successful City
DESCRIPTION:Where: Vancouver Island University\, Room 203\, Bldg. 200 (Lecture Hall)\n\n	Cost: No charge to attend\, but seating is limited. Call the Chamber office to reserve your seat.\n\n	\n\n	As an emerging global initiative\, Successful Cities provides a framework to envision a future that introduces forward-thinking policies and actions that integrate cultural\, economic\, environmental and social initiatives.  By creating and adopting a vibrant vision that centres on Successful City attributes\, Nanaimo will be well positioned to embrace the 21stCentury. \n\n	 \n\n	But\, to ensure its success\, Nanaimo needs to establish a clear vision that integrates the attributes that form the basis for a Successful City. Over the next few months\, the Nanaimo Chamber of Commerce will work with citizens and elected officials to explore how Nanaimo can become one of British Columbia's most Successful Cities.
X-ALT-DESC;FMTTYPE=text/html:<div>\n	<strong>Where:</strong> Vancouver Island University\, Room 203\, Bldg. 200 (Lecture Hall)</div>\n<div>\n	<strong>Cost:</strong> No charge to attend\, but seating is limited. Call the Chamber office to reserve your seat.<br />\n	<br />\n	<span style="font-family:calibri\,sans-serif\;"><span style="font-size:11.0pt\;">As an emerging global initiative\, <em>Successful Cities</em> provides a framework to envision a future that introduces forward-thinking policies and actions that integrate cultural\, </span></span><span style="font-family:calibri\,sans-serif\;"><span style="font-size:11.0pt\;">economic\, environmental and social initiatives.&nbsp\; By creating and adopting a vibrant vision that centres on <em>Successful City</em> attributes\, Nanaimo will be well positioned to embrace the 21</span></span><sup><span style="font-family:calibri\,sans-serif\;"><span style="font-size:7.5pt\;">st</span></span></sup><span style="font-family:calibri\,sans-serif\;"><span style="font-size:11.0pt\;">Century. </span></span><br />\n	&nbsp\;<br />\n	<span style="font-family:calibri\,sans-serif\;"><span style="font-size:11.0pt\;">But\, to ensure its success\, Nanaimo needs to establish a clear vision that integrates the attributes that form the basis for a <em>Successful City</em>. Over the next few months\, the Nanaimo Chamber of Commerce will work with citizens and elected officials to explore how Nanaimo can become one of British Columbia&rsquo\;s most <em>Successful Cities</em>. </span></span></div>\n
LOCATION:Vancouver Island University\, Room 203\, Bldg. 200 (Lecture Hall)
UID:e.1345.7
SEQUENCE:3
DTSTAMP:20260423T223156Z
URL:https://members.nanaimochamber.bc.ca/events/details/rethinking-nanaimo-its-future-as-a-successful-city-01-19-2012-7
END:VEVENT

END:VCALENDAR
