BEGIN:VCALENDAR
VERSION:2.0
PRODID:-//ChamberMaster//Event Calendar 2.0//EN
METHOD:PUBLISH
X-PUBLISHED-TTL:P3D
REFRESH-INTERVAL:P3D
CALSCALE:GREGORIAN
BEGIN:VEVENT
DTSTART:20140924T170000Z
DTEND:20140924T190000Z
X-MICROSOFT-CDO-ALLDAYEVENT:FALSE
SUMMARY:Reputation Management - WEBINAR
DESCRIPTION:Presenter - Doug Hay\, Doug Hay & Associates\n\n \n\nYour online reputation is very important as it will influence prospective buyers interested in your products or services. Learn proven techniques to protect your online reputation and avoid losing clients\, doable steps to get both good search results and an improved online reputation\, how content plays a key role in an effective program\, how to deal with sticky situations on Yelp and similar sites and more. Wednesday\, September 24\, 2014 10:00 am Pacific. Sign up for the free webinar here.
X-ALT-DESC;FMTTYPE=text/html:Presenter - Doug Hay\, Doug Hay &amp\; Associates<br />\n&nbsp\;<br />\nYour online reputation is very important as it will influence prospective buyers interested in your products or services. Learn proven techniques to protect your online reputation and avoid losing clients\, doable steps to get both good search results and an improved online reputation\, how content plays a key role in an effective program\, how to deal with sticky situations on Yelp and similar sites and more. Wednesday\, September 24\, 2014 10:00 am Pacific. Sign up for the free webinar <a href="https://www2.gotomeeting.com/register/370044274">here</a>.&nbsp\;&nbsp\; &nbsp\;<br />\n&nbsp\;
LOCATION:Webinar
UID:e.1345.167
SEQUENCE:3
DTSTAMP:20260421T174428Z
URL:https://members.nanaimochamber.bc.ca/events/details/reputation-management-webinar-09-24-2014-167
END:VEVENT

END:VCALENDAR
