BEGIN:VCALENDAR
VERSION:2.0
PRODID:-//ChamberMaster//Event Calendar 2.0//EN
METHOD:PUBLISH
X-PUBLISHED-TTL:P3D
REFRESH-INTERVAL:P3D
CALSCALE:GREGORIAN
BEGIN:VEVENT
DTSTART:20140903T170000Z
DTEND:20140903T180000Z
X-MICROSOFT-CDO-ALLDAYEVENT:FALSE
SUMMARY:Pro D Webinar - Compliance With The New Canadian Spam Law - Best Practices
DESCRIPTION:Canada's anti-spam legislation (CASL) became effective on July 1\, 2014 and is the toughest in the world.\n\n\n\nNo type of business or charity\, is exempt from it.\n\nLearn best practices so that you are in compliance.\n\n\n\nWhat You Will Learn:\n\n   - What is the new anti-spam law\n\n    -What does it mean for my business\n\n   - How to continue emailing and be in compliance\n\n    -How other forms of electronic communications are impacted\n\n    - Email best practices under the new law\n\n    -Details of the transition period  \n\n    -Consequences can include million dollar fines!\n\n\n\nWho Should attend:\n\n    - Business owners\n\n    - Business managers\n\n    - Marketing staff\n\n\n\nTitle:    Compliance With The New Canadian Spam Law - Best Practices\n\nDate:    Wednesday\, September 3\, 2014\n\nTime:    10:00 AM - 11:00 AM PDT\n\n\n\nAfter registering you will receive a confirmation email containing information about joining the Webinar.\n\nSystem Requirements\n\nPC-based attendees\n\nRequired: Windows  8\, 7\, Vista\, XP or 2003 Server\n\n\n\nMac -based attendees\n\nRequired: Mac OS  X 10.6 or newer\n\n\n\nMobile attendees\n\nRequired: iPhone \, iPad \, Android  phone or Android tablet\n\n\n\nSpace is limited.\n\nReserve your Webinar seat now at:\n\nhttps://www2.gotomeeting.com/register/763115890
X-ALT-DESC;FMTTYPE=text/html:Canada&#39\;s anti-spam legislation (CASL) became effective on July 1\, 2014 and is the toughest in the world.<br />\n<br />\nNo type of business or charity\, is exempt from it.<br />\nLearn best practices so that you are in compliance.<br />\n<br />\nWhat You Will Learn:<br />\n&nbsp\;&nbsp\; - What is the new anti-spam law<br />\n&nbsp\;&nbsp\;&nbsp\; -What does it mean for my business<br />\n&nbsp\;&nbsp\; - How to continue emailing and be in compliance<br />\n&nbsp\;&nbsp\;&nbsp\; -How other forms of electronic communications are impacted<br />\n&nbsp\;&nbsp\;&nbsp\; - Email best practices under the new law<br />\n&nbsp\;&nbsp\;&nbsp\; -Details of the transition period &nbsp\;<br />\n&nbsp\;&nbsp\;&nbsp\; -Consequences can include million dollar fines!<br />\n<br />\nWho Should attend:<br />\n&nbsp\;&nbsp\;&nbsp\; - Business owners<br />\n&nbsp\;&nbsp\;&nbsp\; - Business managers<br />\n&nbsp\;&nbsp\;&nbsp\; - Marketing staff<br />\n<br />\nTitle:&nbsp\;&nbsp\;&nbsp\; Compliance With The New Canadian Spam Law - Best Practices<br />\nDate:&nbsp\;&nbsp\; &nbsp\;Wednesday\, September 3\, 2014<br />\nTime:&nbsp\;&nbsp\; &nbsp\;10:00 AM - 11:00 AM PDT<br />\n<br />\nAfter registering you will receive a confirmation email containing information about joining the Webinar.<br />\nSystem Requirements<br />\nPC-based attendees<br />\nRequired: Windows&reg\; 8\, 7\, Vista\, XP or 2003 Server<br />\n<br />\nMac&reg\;-based attendees<br />\nRequired: Mac OS&reg\; X 10.6 or newer<br />\n<br />\nMobile attendees<br />\nRequired: iPhone&reg\;\, iPad&reg\;\, Android&trade\; phone or Android tablet<br />\n<br />\nSpace is limited.<br />\nReserve your Webinar seat now at:<br />\n<a href="https://www2.gotomeeting.com/register/763115890">https://www2.gotomeeting.com/register/763115890</a>
LOCATION:Webinar
UID:e.1345.160
SEQUENCE:3
DTSTAMP:20260421T175143Z
URL:https://members.nanaimochamber.bc.ca/events/details/pro-d-webinar-compliance-with-the-new-canadian-spam-law-best-practices-09-03-2014-160
END:VEVENT

END:VCALENDAR
